BEGIN:VCALENDAR
VERSION:2.0
PRODID:-//KVIA Events - ECPv6.15.20//NONSGML v1.0//EN
CALSCALE:GREGORIAN
METHOD:PUBLISH
X-ORIGINAL-URL:https://events.kvia.com
X-WR-CALDESC:Events for KVIA Events
REFRESH-INTERVAL;VALUE=DURATION:PT1H
X-Robots-Tag:noindex
X-PUBLISHED-TTL:PT1H
BEGIN:VTIMEZONE
TZID:America/Denver
BEGIN:DAYLIGHT
TZOFFSETFROM:-0700
TZOFFSETTO:-0600
TZNAME:MDT
DTSTART:20210314T090000
END:DAYLIGHT
BEGIN:STANDARD
TZOFFSETFROM:-0600
TZOFFSETTO:-0700
TZNAME:MST
DTSTART:20211107T080000
END:STANDARD
BEGIN:DAYLIGHT
TZOFFSETFROM:-0700
TZOFFSETTO:-0600
TZNAME:MDT
DTSTART:20220313T090000
END:DAYLIGHT
BEGIN:STANDARD
TZOFFSETFROM:-0600
TZOFFSETTO:-0700
TZNAME:MST
DTSTART:20221106T080000
END:STANDARD
BEGIN:DAYLIGHT
TZOFFSETFROM:-0700
TZOFFSETTO:-0600
TZNAME:MDT
DTSTART:20230312T090000
END:DAYLIGHT
BEGIN:STANDARD
TZOFFSETFROM:-0600
TZOFFSETTO:-0700
TZNAME:MST
DTSTART:20231105T080000
END:STANDARD
END:VTIMEZONE
BEGIN:VEVENT
DTSTART;TZID=America/Denver:20220319T110000
DTEND;TZID=America/Denver:20220320T000000
DTSTAMP:20260421T050708
CREATED:20220223T210326Z
LAST-MODIFIED:20220223T210326Z
UID:10001692-1647687600-1647734400@events.kvia.com
SUMMARY:Chucomania
DESCRIPTION:This will be a charity event benefitting Reach for the Star. Lucha wrestling\, a wing eating contest\, car show\, bands and vendors.\n\n\nFree to the public!! Free show!! No tickets need to be purchased to attend!!! \nChuco Barbas working with Lucha League Wrestling brings to you Chucomania. This event will be taking place at The Shack Wings & Brews ( 4726 Woodrow Bean El Paso\, Texas 79924). This event will start at 11am with a car show. We also have Lucha Wrestling planned for later the day along with a wing eating competition. Local vendors will be on site throughout the day. There will be live music entertainment provided by local bands and DJs. Great food and drinks will be served by The Shack Wings & Brews. So please come out and support this amazing event. It’s going to be for a great cause as portions of the proceeds will be benefiting REACH FOR THE STAR. \n\n\n\nThe event will start at 11am with the vendors and music entertainment. Vendors can setup between the times of 830am and 1030am.  The car show will start at 1pm. Set up for the car show will start at 1130am.  \nTake advantage of our pre- registration discounts by signing up early through our eventbrite link. $10 for the car show.  $25 for the wing eating competition.  \nIf you wait to sign up on the day of the event the car show will be $20 for each car and $50 for each competitor for the wing eating competition.  \nSO SIGN UP EARLY!!!
URL:https://events.kvia.com/event/chucomania/
LOCATION:The Shack Wings & Brews\, 4726 Woodrow Bean Transmountain\, El Paso\, TX\, 79924\, United States
CATEGORIES:Food and Drink
ATTACH;FMTTYPE=image/jpeg:https://events.kvia.com/wp-content/uploads/2022/02/79649556d85eb3246d97a9d144a84996-XoDyNU.tmp_.jpg
END:VEVENT
END:VCALENDAR