BEGIN:VCALENDAR
VERSION:2.0
PRODID:-//KVIA Events - ECPv6.15.20//NONSGML v1.0//EN
CALSCALE:GREGORIAN
METHOD:PUBLISH
X-ORIGINAL-URL:https://events.kvia.com
X-WR-CALDESC:Events for KVIA Events
REFRESH-INTERVAL;VALUE=DURATION:PT1H
X-Robots-Tag:noindex
X-PUBLISHED-TTL:PT1H
BEGIN:VTIMEZONE
TZID:America/Denver
BEGIN:DAYLIGHT
TZOFFSETFROM:-0700
TZOFFSETTO:-0600
TZNAME:MDT
DTSTART:20210314T090000
END:DAYLIGHT
BEGIN:STANDARD
TZOFFSETFROM:-0600
TZOFFSETTO:-0700
TZNAME:MST
DTSTART:20211107T080000
END:STANDARD
BEGIN:DAYLIGHT
TZOFFSETFROM:-0700
TZOFFSETTO:-0600
TZNAME:MDT
DTSTART:20220313T090000
END:DAYLIGHT
BEGIN:STANDARD
TZOFFSETFROM:-0600
TZOFFSETTO:-0700
TZNAME:MST
DTSTART:20221106T080000
END:STANDARD
BEGIN:DAYLIGHT
TZOFFSETFROM:-0700
TZOFFSETTO:-0600
TZNAME:MDT
DTSTART:20230312T090000
END:DAYLIGHT
BEGIN:STANDARD
TZOFFSETFROM:-0600
TZOFFSETTO:-0700
TZNAME:MST
DTSTART:20231105T080000
END:STANDARD
END:VTIMEZONE
BEGIN:VEVENT
DTSTART;TZID=America/Denver:20220226T200000
DTEND;TZID=America/Denver:20220227T000000
DTSTAMP:20260424T035051
CREATED:20220223T210240Z
LAST-MODIFIED:20220223T210240Z
UID:10001691-1645905600-1645920000@events.kvia.com
SUMMARY:Singles Party Bus
DESCRIPTION:El Paso’s dating scene is changing. Come find love while having a great time!! You don’t want to miss this one-of-a-kind event!!!\n\n\nReady to get back into the dating scene but don’t know how? Then you do not want to miss this one-of-a-kind speed dating event. You will have 10+ dates in one night\, and who knows you might even find the love of your life.  \nMoonlight Devi & LatinX invite you to our first Singles Party Bus speed dating night! \nWe will be stopping at four amazing bars and restaurants in the Sun City\, each with its own individual activity to get you to know participant singles a little bit better.  \nSpace is limited so make sure that you reserve your spot TODAY!!  \n****************************************************************************************************** \nAtencion a todos los solteros y solteras de El Paso y Ciudad Juarez!! \nQuires vivir una experencia unica y conocer a tu media naranja? Moonlight Devi y LatinX  te invita a nuestro primer Chinchorreo.  \nEstaremos visitando cuatro bars/restaurant en nuestra bella ciudad de El Paso. En las que habra actividades differentes en cada parada para que conozcas mejor a todos los solteros que participen.  \nEl cupo es limitado asi que compra tu boleto HOY!!
URL:https://events.kvia.com/event/singles-party-bus/
LOCATION:Sunland Park Mall\, 750 Sunland Park Drive\, El Paso\, TX\, 79912\, United States
CATEGORIES:Fundraisers and Galas
ATTACH;FMTTYPE=image/jpeg:https://events.kvia.com/wp-content/uploads/2022/02/e2cf924238d442ea7952d0a30a6a688e-EN9nAm.tmp_.jpg
END:VEVENT
END:VCALENDAR