BEGIN:VCALENDAR
VERSION:2.0
PRODID:-//KVIA Events - ECPv6.15.20//NONSGML v1.0//EN
CALSCALE:GREGORIAN
METHOD:PUBLISH
X-WR-CALNAME:KVIA Events
X-ORIGINAL-URL:https://events.kvia.com
X-WR-CALDESC:Events for KVIA Events
REFRESH-INTERVAL;VALUE=DURATION:PT1H
X-Robots-Tag:noindex
X-PUBLISHED-TTL:PT1H
BEGIN:VTIMEZONE
TZID:America/Los_Angeles
BEGIN:DAYLIGHT
TZOFFSETFROM:-0800
TZOFFSETTO:-0700
TZNAME:PDT
DTSTART:20220313T100000
END:DAYLIGHT
BEGIN:STANDARD
TZOFFSETFROM:-0700
TZOFFSETTO:-0800
TZNAME:PST
DTSTART:20221106T090000
END:STANDARD
BEGIN:DAYLIGHT
TZOFFSETFROM:-0800
TZOFFSETTO:-0700
TZNAME:PDT
DTSTART:20230312T100000
END:DAYLIGHT
BEGIN:STANDARD
TZOFFSETFROM:-0700
TZOFFSETTO:-0800
TZNAME:PST
DTSTART:20231105T090000
END:STANDARD
BEGIN:DAYLIGHT
TZOFFSETFROM:-0800
TZOFFSETTO:-0700
TZNAME:PDT
DTSTART:20240310T100000
END:DAYLIGHT
BEGIN:STANDARD
TZOFFSETFROM:-0700
TZOFFSETTO:-0800
TZNAME:PST
DTSTART:20241103T090000
END:STANDARD
END:VTIMEZONE
BEGIN:VEVENT
DTSTART;TZID=America/Los_Angeles:20231229T120000
DTEND;TZID=America/Los_Angeles:20231229T120000
DTSTAMP:20260421T034848
CREATED:20231120T200644Z
LAST-MODIFIED:20231120T202233Z
UID:10002272-1703851200-1703851200@events.kvia.com
SUMMARY:Tony the Tiger Sun Bowl
DESCRIPTION:When teams from the ACC and Pac-12 meet on the field on Dec. 29\, 2023\, it will mark the 90th edition of one of the oldest traditions in college football history\, the Tony the Tiger Sun Bowl.
URL:https://events.kvia.com/event/tony-the-tiger-sun-bowl/
LOCATION:Sun Bowl Stadium\, 2701 Sun Bowl Dr\, El Paso\, 79902
CATEGORIES:Sports
ATTACH;FMTTYPE=image/png:https://events.kvia.com/wp-content/uploads/2023/11/Sun-Bowl-2.png
END:VEVENT
END:VCALENDAR