BEGIN:VCALENDAR
VERSION:2.0
PRODID:-//KVIA Events - ECPv6.15.20//NONSGML v1.0//EN
CALSCALE:GREGORIAN
METHOD:PUBLISH
X-WR-CALNAME:KVIA Events
X-ORIGINAL-URL:https://events.kvia.com
X-WR-CALDESC:Events for KVIA Events
REFRESH-INTERVAL;VALUE=DURATION:PT1H
X-Robots-Tag:noindex
X-PUBLISHED-TTL:PT1H
BEGIN:VTIMEZONE
TZID:America/Los_Angeles
BEGIN:DAYLIGHT
TZOFFSETFROM:-0800
TZOFFSETTO:-0700
TZNAME:PDT
DTSTART:20210314T100000
END:DAYLIGHT
BEGIN:STANDARD
TZOFFSETFROM:-0700
TZOFFSETTO:-0800
TZNAME:PST
DTSTART:20211107T090000
END:STANDARD
BEGIN:DAYLIGHT
TZOFFSETFROM:-0800
TZOFFSETTO:-0700
TZNAME:PDT
DTSTART:20220313T100000
END:DAYLIGHT
BEGIN:STANDARD
TZOFFSETFROM:-0700
TZOFFSETTO:-0800
TZNAME:PST
DTSTART:20221106T090000
END:STANDARD
BEGIN:DAYLIGHT
TZOFFSETFROM:-0800
TZOFFSETTO:-0700
TZNAME:PDT
DTSTART:20230312T100000
END:DAYLIGHT
BEGIN:STANDARD
TZOFFSETFROM:-0700
TZOFFSETTO:-0800
TZNAME:PST
DTSTART:20231105T090000
END:STANDARD
BEGIN:DAYLIGHT
TZOFFSETFROM:-0800
TZOFFSETTO:-0700
TZNAME:PDT
DTSTART:20240310T100000
END:DAYLIGHT
BEGIN:STANDARD
TZOFFSETFROM:-0700
TZOFFSETTO:-0800
TZNAME:PST
DTSTART:20241103T090000
END:STANDARD
BEGIN:DAYLIGHT
TZOFFSETFROM:-0800
TZOFFSETTO:-0700
TZNAME:PDT
DTSTART:20250309T100000
END:DAYLIGHT
BEGIN:STANDARD
TZOFFSETFROM:-0700
TZOFFSETTO:-0800
TZNAME:PST
DTSTART:20251102T090000
END:STANDARD
BEGIN:DAYLIGHT
TZOFFSETFROM:-0800
TZOFFSETTO:-0700
TZNAME:PDT
DTSTART:20260308T100000
END:DAYLIGHT
BEGIN:STANDARD
TZOFFSETFROM:-0700
TZOFFSETTO:-0800
TZNAME:PST
DTSTART:20261101T090000
END:STANDARD
END:VTIMEZONE
BEGIN:VEVENT
DTSTART;TZID=America/Los_Angeles:20251025T100000
DTEND;TZID=America/Los_Angeles:20251025T140000
DTSTAMP:20260422T091719
CREATED:20251015T170822Z
LAST-MODIFIED:20251015T170822Z
UID:10006540-1761386400-1761400800@events.kvia.com
SUMMARY:Las Palmas Del Sol Healthcare Hosts Medication Disposal Sites for National Prescription Drug Take Back Day
DESCRIPTION:Las Palmas Del Sol Healthcare is partnering with Constable Luis “Louie” Aguilar from the El Paso County Constable’s Office\, Precinct 4\, and the U.S. Drug Enforcement Administration to provide two medication disposal sites on National Prescription Drug Take Back Day.  \nParticipants can safely dispose of controlled and uncontrolled substances\, over-the-counter medications\, ointments\, patches\, creams\, non-aerosol sprays\, vials and pet medications. Used needles and other sharps will not be accepted. All accepted medications will be properly destroyed. \n  \nThere will be two drop-off locations: \n  \nLas Palmas Del Sol Emergency Center – West \n1535 Resler Dr. \nEl Paso\, Texas 79912 \n  \nLas Palmas Del Sol Emergency Center – Horizon \n13401 Gateway Blvd. W \nEl Paso\, Texas 79928 \n  \nNational Prescription Drug Take Back Day provides an opportunity for communities to prevent drug addiction and overdose deaths by ensuring that prescription drugs are not misused and do not end up in the wrong  hands.
URL:https://events.kvia.com/event/las-palmas-del-sol-healthcare-hosts-medication-disposal-sites-for-national-prescription-drug-take-back-day/
LOCATION:Las Palmas Del Sol Emergency Center – West
CATEGORIES:Health and Wellness
ATTACH;FMTTYPE=image/jpeg:https://events.kvia.com/wp-content/uploads/2025/10/image.jpeg
END:VEVENT
BEGIN:VEVENT
DTSTART;TZID=America/Los_Angeles:20221029T100000
DTEND;TZID=America/Los_Angeles:20221029T140000
DTSTAMP:20260422T091719
CREATED:20221019T232111Z
LAST-MODIFIED:20221019T232111Z
UID:10001993-1667037600-1667052000@events.kvia.com
SUMMARY:Crush the Crisis Opioid Take Back Day
DESCRIPTION:Crush the Crisis Opioid Take Back Day is a medication take back event that invites community members to safely and anonymously dispose of unused or expired prescription medication. \nThe collection site will includes a convenient drive thru only. The medication drop-off will be located at 6044 Gateway Blvd. East. Law Enforcement partner will be providing traffic cones and traffic control. The site had easy and convenient in and out access.
URL:https://events.kvia.com/event/crush-the-crisis-opioid-take-back-day/
LOCATION:PNC Bank Building Parking Lot\, 6044 Gateway Blvd. East\, El Paso\, 79905
END:VEVENT
END:VCALENDAR