BEGIN:VCALENDAR
VERSION:2.0
PRODID:-//KVIA Events - ECPv6.15.20//NONSGML v1.0//EN
CALSCALE:GREGORIAN
METHOD:PUBLISH
X-ORIGINAL-URL:https://events.kvia.com
X-WR-CALDESC:Events for KVIA Events
REFRESH-INTERVAL;VALUE=DURATION:PT1H
X-Robots-Tag:noindex
X-PUBLISHED-TTL:PT1H
BEGIN:VTIMEZONE
TZID:America/Los_Angeles
BEGIN:DAYLIGHT
TZOFFSETFROM:-0800
TZOFFSETTO:-0700
TZNAME:PDT
DTSTART:20240310T100000
END:DAYLIGHT
BEGIN:STANDARD
TZOFFSETFROM:-0700
TZOFFSETTO:-0800
TZNAME:PST
DTSTART:20241103T090000
END:STANDARD
BEGIN:DAYLIGHT
TZOFFSETFROM:-0800
TZOFFSETTO:-0700
TZNAME:PDT
DTSTART:20250309T100000
END:DAYLIGHT
BEGIN:STANDARD
TZOFFSETFROM:-0700
TZOFFSETTO:-0800
TZNAME:PST
DTSTART:20251102T090000
END:STANDARD
BEGIN:DAYLIGHT
TZOFFSETFROM:-0800
TZOFFSETTO:-0700
TZNAME:PDT
DTSTART:20260308T100000
END:DAYLIGHT
BEGIN:STANDARD
TZOFFSETFROM:-0700
TZOFFSETTO:-0800
TZNAME:PST
DTSTART:20261101T090000
END:STANDARD
END:VTIMEZONE
BEGIN:VEVENT
DTSTART;TZID=America/Los_Angeles:20250501T093000
DTEND;TZID=America/Los_Angeles:20250501T103000
DTSTAMP:20260421T173712
CREATED:20240507T205119Z
LAST-MODIFIED:20240507T205119Z
UID:10002384-1746091800-1746095400@events.kvia.com
SUMMARY:Yoga on Thursdays
DESCRIPTION:Join Liveactive EP in their free group fitness classes\n(City-wide movement to promote better health and wellness by encouraging physical activity\, improved nutrition\, and strong mental health.)\nInstructor: Aman Wraich (Free the Yoga
URL:https://events.kvia.com/event/yoga-on-thursdays/2025-05-01/
LOCATION:Gary Del Palacio Recreation Center\, 3001 Parkwood St\, El Paso\, 79925
CATEGORIES:Health and Wellness
ATTACH;FMTTYPE=image/jpeg:https://events.kvia.com/wp-content/uploads/2024/05/MGN_1280x720_81022P00-YKZWI.jpg
END:VEVENT
BEGIN:VEVENT
DTSTART;TZID=America/Los_Angeles:20250503T063000
DTEND;TZID=America/Los_Angeles:20250503T073000
DTSTAMP:20260421T173712
CREATED:20240507T211109Z
LAST-MODIFIED:20240507T212452Z
UID:10002857-1746253800-1746257400@events.kvia.com
SUMMARY:Aqua Strength
DESCRIPTION:Join Liveactive EP in their free group fitness classes (City-wide movement to promote better health and wellness by encouraging physical activity\, improved nutrition\, and strong mental health.) Instructor: Scott Smith (SI Fitness)
URL:https://events.kvia.com/event/aqua-strength/2025-05-03/
LOCATION:Marty Robbins Recreation Center\, 11620 Vista Del Sol Dr\, El Paso\, 79936
CATEGORIES:Health and Wellness
ATTACH;FMTTYPE=image/jpeg:https://events.kvia.com/wp-content/uploads/2024/05/MGN_1280x720_20620P00-LCUJF.jpg
END:VEVENT
BEGIN:VEVENT
DTSTART;TZID=America/Los_Angeles:20250503T090000
DTEND;TZID=America/Los_Angeles:20250503T100000
DTSTAMP:20260421T173712
CREATED:20240507T211327Z
LAST-MODIFIED:20240507T212332Z
UID:10002952-1746262800-1746266400@events.kvia.com
SUMMARY:Body Strength & Fitness Class
DESCRIPTION:Join Liveactive EP in their free group fitness classes (City-wide movement to promote better health and wellness by encouraging physical activity\, improved nutrition\, and strong mental health.)
URL:https://events.kvia.com/event/body-strength-fitness-class/2025-05-03/
LOCATION:Sylvia A. Carreon Community Center\, 709 Lomita Dr\, El Paso\, 79907
CATEGORIES:Health and Wellness
ATTACH;FMTTYPE=image/jpeg:https://events.kvia.com/wp-content/uploads/2024/05/MGN_1280x720_20928P00-QBVCK.jpg
END:VEVENT
BEGIN:VEVENT
DTSTART;TZID=America/Los_Angeles:20250503T090000
DTEND;TZID=America/Los_Angeles:20250503T160000
DTSTAMP:20260421T173712
CREATED:20250304T230535Z
LAST-MODIFIED:20250304T230535Z
UID:10003166-1746262800-1746288000@events.kvia.com
SUMMARY:UTEP Youth Programs and Camps – Saturday One-Day Camps
DESCRIPTION:UTEP Youth Programs and Camps has a variety of on-campus activities this spring to keep your kids engaged during the weekend. Young campers can develop their skills\, learn and have fun in the many one-day camps we offer. Our weekend camps can help improve academic skills\, develop confidence and more. Sign your child up for our Saturday One-Day camps: they’ll be guaranteed a fun and unique learning experience! Camps take place every Saturday from 9 a.m. to 4 p.m. for ages 6-12. For more information\, visit ppp.utep.edu/youthcourses or call 915-747-5142. \nTo register\, visit https://pace.utep.edu/wconnect/quickpick.awp
URL:https://events.kvia.com/event/utep-youth-programs-and-camps-saturday-one-day-camps-8/
LOCATION:UTEP Campus\, 500 W. University Ave.\, El Paso\, 79968
CATEGORIES:Community,Education
ATTACH;FMTTYPE=image/jpeg:https://events.kvia.com/wp-content/uploads/2025/03/Spr25-One-Day-Camps-Marquee-7.jpg
ORGANIZER;CN="Professional and Public Programs at UTEP":MAILTO:p3youth@utep.edu
END:VEVENT
BEGIN:VEVENT
DTSTART;TZID=America/Los_Angeles:20250503T100000
DTEND;TZID=America/Los_Angeles:20250503T140000
DTSTAMP:20260421T173712
CREATED:20250407T223819Z
LAST-MODIFIED:20250407T223819Z
UID:10003190-1746266400-1746280800@events.kvia.com
SUMMARY:UTEP Kidz on Campus – Summer Kickoff Event\, May 3
DESCRIPTION:Be part of our learning tradition this summer with Kidz on Campus at UTEP! Professional and Public Programs at UTEP is excited to host its Summer Kickoff event on May 3rd\, starting at 10 a.m.\nKidz on Campus offers a variety of weekly half- and full-day camps for children entering kindergarten through 12th grade.\nVisit UTEP’s Memorial Gym on May 3rd\, between 10 a.m. and 2 p.m.\, and enjoy $20 off each of our 8-week summer camps at UTEP or St. Patrick’s Elementary School!\nWhile you’re there\, enjoy free food\, pick up some swag (while supplies last)\, and get all the details about our exciting summer youth programs.\nFor more information\, visit: ppp.utep.edu/summerkickoff or call 915-747-5142. Discover the miner in you!
URL:https://events.kvia.com/event/utep-kidz-on-campus-summer-kickoff-event-may-3/
LOCATION:UTEP Campus\, 500 W. University Ave.\, El Paso\, 79968
CATEGORIES:Community,Education
ATTACH;FMTTYPE=image/jpeg:https://events.kvia.com/wp-content/uploads/2025/04/summer-2025-kickoff-comm-calendar-FB.jpg
ORGANIZER;CN="Professional and Public Programs at UTEP":MAILTO:p3youth@utep.edu
END:VEVENT
BEGIN:VEVENT
DTSTART;TZID=America/Los_Angeles:20250504T080000
DTEND;TZID=America/Los_Angeles:20250504T080000
DTSTAMP:20260421T173712
CREATED:20240507T212039Z
LAST-MODIFIED:20240507T213108Z
UID:10003007-1746345600-1746345600@events.kvia.com
SUMMARY:Low Sensory Sunday
DESCRIPTION:For a quieter\, calmer zoo experience\, we are open an hour early to allow guests enjoy the zoo before the crowds settle in. \nThe Zoo has designated quiet zones and identified headphone zones to provide a calm and quiet area for visitors with sensory needs. \nSensory sensitivities or challenges with sensory regulation are often experienced by individuals with autism\, dementia\, PTSD\, and other similar conditions.
URL:https://events.kvia.com/event/low-sensory-sunday/2025-05-04/
LOCATION:El Paso Zoo\, 4001 E Paisano Dr\, El Paso\, 79905
ATTACH;FMTTYPE=image/png:https://events.kvia.com/wp-content/uploads/2024/05/Low-Sensory-Sundays.png
END:VEVENT
BEGIN:VEVENT
DTSTART;TZID=America/Los_Angeles:20250504T100000
DTEND;TZID=America/Los_Angeles:20250504T180000
DTSTAMP:20260421T173713
CREATED:20250314T172148Z
LAST-MODIFIED:20250314T172148Z
UID:10003168-1746352800-1746381600@events.kvia.com
SUMMARY:May The 4th Be With You
DESCRIPTION:Make plans to come to the brewery on Sunday\, May 4th from 10am to 6pm for a full day of Star Wars fun for the entire family. We’ll be featuring a special appearance by actor C. Andrew Nelson (Darth Vader)\, a Star Wars themed beer release and food menu\, Star Wars trivia\, a costume contest\, Star Wars themed activities for kids\, Estar Guars Loteria\, photo opportunities\, Star Wars themed 3-D pen demo by Fab Lab El Paso\, vendors\, artists and much more! \nAdmission is free and open to all ages. \nFor more information visit our website and our social media.
URL:https://events.kvia.com/event/may-the-4th-be-with-you/
LOCATION:DeadBeach Brewery\, 3200 Durazno Ave.\, El Paso\, TX\, 79905\, United States
CATEGORIES:Fairs and Festivals
ATTACH;FMTTYPE=image/png:https://events.kvia.com/wp-content/uploads/2025/03/MAY-4TH-2025-DEADBEACH-BREWERY-C.-ANDREW-NELSON-APPEARANCE-STAR-WARS-TRIVIA-SPECIALTY-BEER-RELEASE-THEMED-MENU-COSTUME-CONTEST-FULL-DETAILS-AT-DEADBEACH.COM-1.png
END:VEVENT
BEGIN:VEVENT
DTSTART;TZID=America/Los_Angeles:20250504T120000
DTEND;TZID=America/Los_Angeles:20250524T170000
DTSTAMP:20260421T173713
CREATED:20250407T164449Z
LAST-MODIFIED:20250407T164449Z
UID:10003187-1746360000-1748106000@events.kvia.com
SUMMARY:Francella Baca: Conversations with the Universe
DESCRIPTION:A solo exhibition by visionary illustrative painter and tattoo artist\, Francella Baca. \nExperience a comprehensive collection and blend of visionary fine art and tattoo artist wit the works of native El Paso artist Francella Baca.From her tattoo creations to work in different mediums of art\, Francella’s work is born through her visions\, dreams\, love of nature and captures her intuitive connections to the Universe…. These are her Conversations with the Universe. \nConversations with the Universe will be on view from Sunday\, May 4- Saturday\, May 2024\, 2025. All are welcome to the opening reception on Sunday\, May 4 from 2 pm- 5 pm with a gallery talk by Francella at 3 pm. \nThe International Museum of Art is dedicated to making art accessible to all\, offering free admission\, exhibitions of local artists\, and a rich collection of regional and international artifacts. Thanks to the generous support of our members and donors\, we continue to foster cultural understanding and promoting the visual arts in El Paso.
URL:https://events.kvia.com/event/francella-baca-conversations-with-the-universe/
LOCATION:International Museum of Art\, 1211 Montana Avenue\, El Paso\, TX\, 79902\, United States
CATEGORIES:Art and Exhibits
ATTACH;FMTTYPE=image/jpeg:https://events.kvia.com/wp-content/uploads/2025/04/Francella-Baca-Conversations-with-the-Universe.jpg
ORGANIZER;CN="International Museum of Art":MAILTO:international.art.musuem@gmail.com
END:VEVENT
BEGIN:VEVENT
DTSTART;TZID=America/Los_Angeles:20250504T140000
DTEND;TZID=America/Los_Angeles:20250504T170000
DTSTAMP:20260421T173713
CREATED:20250409T215745Z
LAST-MODIFIED:20250409T215745Z
UID:10003191-1746367200-1746378000@events.kvia.com
SUMMARY:Opening Reception Francella Baca: Conversations with the Universe
DESCRIPTION:Please join the International Museum of Art in welcoming Francella Baca: Conversations with the Universe on Sunday\, May 4 from 2 pm- 5 pm. All are welcome to the grand opening of this solo exhibition by visionary illustrative painter and tattoo artist\, Francella Baca. Francella will be offering a free Artist Gallery Talk at 3 pm. \nExperience a comprehensive collection and blend of visionary fine art and tattoo artist wit the works of native El Paso artist Francella Baca.From her tattoo creations to work in different mediums of art\, Francella’s work is born through her visions\, dreams\, love of nature and captures her intuitive connections to the Universe…. These are her Conversations with the Universe. \nConversations with the Universe will be on view from Sunday\, May 4- Saturday\, May 2024\, 2025. \nThe International Museum of Art is dedicated to making art accessible to all\, offering free admission\, exhibitions of local artists\, and a rich collection of regional and international artifacts. Thanks to the generous support of our members and donors\, we continue to foster cultural understanding and promoting the visual arts in El Paso.
URL:https://events.kvia.com/event/opening-reception-francella-baca-conversations-with-the-universe/
LOCATION:International Museum of Art\, 1211 Montana Avenue\, El Paso\, TX\, 79902\, United States
CATEGORIES:Art and Exhibits
ATTACH;FMTTYPE=image/jpeg:https://events.kvia.com/wp-content/uploads/2025/04/Francella-Baca-Conversations-with-the-Universe-1.jpg
ORGANIZER;CN="International Museum of Art":MAILTO:international.art.musuem@gmail.com
END:VEVENT
BEGIN:VEVENT
DTSTART;TZID=America/Los_Angeles:20250505T180000
DTEND;TZID=America/Los_Angeles:20250505T190000
DTSTAMP:20260421T173713
CREATED:20240507T210046Z
LAST-MODIFIED:20240507T212723Z
UID:10002531-1746468000-1746471600@events.kvia.com
SUMMARY:Latin Cardio Dance
DESCRIPTION:Join Liveactive EP in their free group fitness classes (City-wide movement to promote better health and wellness by encouraging physical activity\, improved nutrition\, and strong mental health.) Instructor: Lizbeth Romero
URL:https://events.kvia.com/event/latin-cardio-dance/2025-05-05/
LOCATION:Chamizal Recreation Center and Library\, 2119 Cypress Ave\, El Paso\, 79905
CATEGORIES:Health and Wellness
ATTACH;FMTTYPE=image/jpeg:https://events.kvia.com/wp-content/uploads/2024/05/MGN_1280x720_10922P00-GKHCE.jpg
END:VEVENT
BEGIN:VEVENT
DTSTART;TZID=America/Los_Angeles:20250505T180000
DTEND;TZID=America/Los_Angeles:20250505T190000
DTSTAMP:20260421T173713
CREATED:20240507T210651Z
LAST-MODIFIED:20240507T212645Z
UID:10002720-1746468000-1746471600@events.kvia.com
SUMMARY:Zumba (Be Well El Paso)
DESCRIPTION:Join Liveactive EP in their free group fitness classes (City-wide movement to promote better health and wellness by encouraging physical activity\, improved nutrition\, and strong mental health.) Instructor: Suzi Adams
URL:https://events.kvia.com/event/zumba-be-well-el-paso/2025-05-05/
LOCATION:Gary Del Palacio Recreation Center\, 3001 Parkwood St\, El Paso\, 79925
CATEGORIES:Health and Wellness
ATTACH;FMTTYPE=image/jpeg:https://events.kvia.com/wp-content/uploads/2024/05/MGN_1280x720_10503B00-IOQRU.jpg
END:VEVENT
BEGIN:VEVENT
DTSTART;TZID=America/Los_Angeles:20250506T093000
DTEND;TZID=America/Los_Angeles:20250506T103000
DTSTAMP:20260421T173713
CREATED:20240507T204454Z
LAST-MODIFIED:20240507T204454Z
UID:10001900-1746523800-1746527400@events.kvia.com
SUMMARY:Yoga (Be Well El Paso)
DESCRIPTION:Join Liveactive EP in their free group fitness classes\n(City-wide movement to promote better health and wellness by encouraging physical activity\, improved nutrition\, and strong mental health.)\nInstructor: Aman Wraich (Free the Yoga)
URL:https://events.kvia.com/event/yoga-be-well-el-paso/2025-05-06/
LOCATION:Gary Del Palacio Recreation Center\, 3001 Parkwood St\, El Paso\, 79925
CATEGORIES:Health and Wellness
ATTACH;FMTTYPE=image/jpeg:https://events.kvia.com/wp-content/uploads/2024/05/MGN_1280x720_20928P00-YZGDL.jpg
END:VEVENT
BEGIN:VEVENT
DTSTART;TZID=America/Los_Angeles:20250507T180000
DTEND;TZID=America/Los_Angeles:20250507T190000
DTSTAMP:20260421T173713
CREATED:20240507T210046Z
LAST-MODIFIED:20240507T212723Z
UID:10002532-1746640800-1746644400@events.kvia.com
SUMMARY:Latin Cardio Dance
DESCRIPTION:Join Liveactive EP in their free group fitness classes (City-wide movement to promote better health and wellness by encouraging physical activity\, improved nutrition\, and strong mental health.) Instructor: Lizbeth Romero
URL:https://events.kvia.com/event/latin-cardio-dance/2025-05-07/
LOCATION:Chamizal Recreation Center and Library\, 2119 Cypress Ave\, El Paso\, 79905
CATEGORIES:Health and Wellness
ATTACH;FMTTYPE=image/jpeg:https://events.kvia.com/wp-content/uploads/2024/05/MGN_1280x720_10922P00-GKHCE.jpg
END:VEVENT
BEGIN:VEVENT
DTSTART;TZID=America/Los_Angeles:20250507T180000
DTEND;TZID=America/Los_Angeles:20250507T190000
DTSTAMP:20260421T173713
CREATED:20240507T210651Z
LAST-MODIFIED:20240507T212645Z
UID:10002721-1746640800-1746644400@events.kvia.com
SUMMARY:Zumba (Be Well El Paso)
DESCRIPTION:Join Liveactive EP in their free group fitness classes (City-wide movement to promote better health and wellness by encouraging physical activity\, improved nutrition\, and strong mental health.) Instructor: Suzi Adams
URL:https://events.kvia.com/event/zumba-be-well-el-paso/2025-05-07/
LOCATION:Gary Del Palacio Recreation Center\, 3001 Parkwood St\, El Paso\, 79925
CATEGORIES:Health and Wellness
ATTACH;FMTTYPE=image/jpeg:https://events.kvia.com/wp-content/uploads/2024/05/MGN_1280x720_10503B00-IOQRU.jpg
END:VEVENT
BEGIN:VEVENT
DTSTART;TZID=America/Los_Angeles:20250508T093000
DTEND;TZID=America/Los_Angeles:20250508T103000
DTSTAMP:20260421T173713
CREATED:20240507T205119Z
LAST-MODIFIED:20240507T205119Z
UID:10002385-1746696600-1746700200@events.kvia.com
SUMMARY:Yoga on Thursdays
DESCRIPTION:Join Liveactive EP in their free group fitness classes\n(City-wide movement to promote better health and wellness by encouraging physical activity\, improved nutrition\, and strong mental health.)\nInstructor: Aman Wraich (Free the Yoga
URL:https://events.kvia.com/event/yoga-on-thursdays/2025-05-08/
LOCATION:Gary Del Palacio Recreation Center\, 3001 Parkwood St\, El Paso\, 79925
CATEGORIES:Health and Wellness
ATTACH;FMTTYPE=image/jpeg:https://events.kvia.com/wp-content/uploads/2024/05/MGN_1280x720_81022P00-YKZWI.jpg
END:VEVENT
BEGIN:VEVENT
DTSTART;TZID=America/Los_Angeles:20250510T063000
DTEND;TZID=America/Los_Angeles:20250510T073000
DTSTAMP:20260421T173713
CREATED:20240507T211109Z
LAST-MODIFIED:20240507T212452Z
UID:10002858-1746858600-1746862200@events.kvia.com
SUMMARY:Aqua Strength
DESCRIPTION:Join Liveactive EP in their free group fitness classes (City-wide movement to promote better health and wellness by encouraging physical activity\, improved nutrition\, and strong mental health.) Instructor: Scott Smith (SI Fitness)
URL:https://events.kvia.com/event/aqua-strength/2025-05-10/
LOCATION:Marty Robbins Recreation Center\, 11620 Vista Del Sol Dr\, El Paso\, 79936
CATEGORIES:Health and Wellness
ATTACH;FMTTYPE=image/jpeg:https://events.kvia.com/wp-content/uploads/2024/05/MGN_1280x720_20620P00-LCUJF.jpg
END:VEVENT
BEGIN:VEVENT
DTSTART;TZID=America/Los_Angeles:20250510T090000
DTEND;TZID=America/Los_Angeles:20250510T100000
DTSTAMP:20260421T173713
CREATED:20240507T211327Z
LAST-MODIFIED:20240507T212332Z
UID:10002953-1746867600-1746871200@events.kvia.com
SUMMARY:Body Strength & Fitness Class
DESCRIPTION:Join Liveactive EP in their free group fitness classes (City-wide movement to promote better health and wellness by encouraging physical activity\, improved nutrition\, and strong mental health.)
URL:https://events.kvia.com/event/body-strength-fitness-class/2025-05-10/
LOCATION:Sylvia A. Carreon Community Center\, 709 Lomita Dr\, El Paso\, 79907
CATEGORIES:Health and Wellness
ATTACH;FMTTYPE=image/jpeg:https://events.kvia.com/wp-content/uploads/2024/05/MGN_1280x720_20928P00-QBVCK.jpg
END:VEVENT
BEGIN:VEVENT
DTSTART;TZID=America/Los_Angeles:20250512T180000
DTEND;TZID=America/Los_Angeles:20250512T190000
DTSTAMP:20260421T173713
CREATED:20240507T210046Z
LAST-MODIFIED:20240507T212723Z
UID:10002533-1747072800-1747076400@events.kvia.com
SUMMARY:Latin Cardio Dance
DESCRIPTION:Join Liveactive EP in their free group fitness classes (City-wide movement to promote better health and wellness by encouraging physical activity\, improved nutrition\, and strong mental health.) Instructor: Lizbeth Romero
URL:https://events.kvia.com/event/latin-cardio-dance/2025-05-12/
LOCATION:Chamizal Recreation Center and Library\, 2119 Cypress Ave\, El Paso\, 79905
CATEGORIES:Health and Wellness
ATTACH;FMTTYPE=image/jpeg:https://events.kvia.com/wp-content/uploads/2024/05/MGN_1280x720_10922P00-GKHCE.jpg
END:VEVENT
BEGIN:VEVENT
DTSTART;TZID=America/Los_Angeles:20250512T180000
DTEND;TZID=America/Los_Angeles:20250512T190000
DTSTAMP:20260421T173713
CREATED:20240507T210651Z
LAST-MODIFIED:20240507T212645Z
UID:10002722-1747072800-1747076400@events.kvia.com
SUMMARY:Zumba (Be Well El Paso)
DESCRIPTION:Join Liveactive EP in their free group fitness classes (City-wide movement to promote better health and wellness by encouraging physical activity\, improved nutrition\, and strong mental health.) Instructor: Suzi Adams
URL:https://events.kvia.com/event/zumba-be-well-el-paso/2025-05-12/
LOCATION:Gary Del Palacio Recreation Center\, 3001 Parkwood St\, El Paso\, 79925
CATEGORIES:Health and Wellness
ATTACH;FMTTYPE=image/jpeg:https://events.kvia.com/wp-content/uploads/2024/05/MGN_1280x720_10503B00-IOQRU.jpg
END:VEVENT
BEGIN:VEVENT
DTSTART;TZID=America/Los_Angeles:20250513T093000
DTEND;TZID=America/Los_Angeles:20250513T103000
DTSTAMP:20260421T173713
CREATED:20240507T204454Z
LAST-MODIFIED:20240507T204454Z
UID:10001901-1747128600-1747132200@events.kvia.com
SUMMARY:Yoga (Be Well El Paso)
DESCRIPTION:Join Liveactive EP in their free group fitness classes\n(City-wide movement to promote better health and wellness by encouraging physical activity\, improved nutrition\, and strong mental health.)\nInstructor: Aman Wraich (Free the Yoga)
URL:https://events.kvia.com/event/yoga-be-well-el-paso/2025-05-13/
LOCATION:Gary Del Palacio Recreation Center\, 3001 Parkwood St\, El Paso\, 79925
CATEGORIES:Health and Wellness
ATTACH;FMTTYPE=image/jpeg:https://events.kvia.com/wp-content/uploads/2024/05/MGN_1280x720_20928P00-YZGDL.jpg
END:VEVENT
BEGIN:VEVENT
DTSTART;TZID=America/Los_Angeles:20250514T180000
DTEND;TZID=America/Los_Angeles:20250514T190000
DTSTAMP:20260421T173713
CREATED:20240507T210046Z
LAST-MODIFIED:20240507T212723Z
UID:10002534-1747245600-1747249200@events.kvia.com
SUMMARY:Latin Cardio Dance
DESCRIPTION:Join Liveactive EP in their free group fitness classes (City-wide movement to promote better health and wellness by encouraging physical activity\, improved nutrition\, and strong mental health.) Instructor: Lizbeth Romero
URL:https://events.kvia.com/event/latin-cardio-dance/2025-05-14/
LOCATION:Chamizal Recreation Center and Library\, 2119 Cypress Ave\, El Paso\, 79905
CATEGORIES:Health and Wellness
ATTACH;FMTTYPE=image/jpeg:https://events.kvia.com/wp-content/uploads/2024/05/MGN_1280x720_10922P00-GKHCE.jpg
END:VEVENT
BEGIN:VEVENT
DTSTART;TZID=America/Los_Angeles:20250514T180000
DTEND;TZID=America/Los_Angeles:20250514T190000
DTSTAMP:20260421T173713
CREATED:20240507T210651Z
LAST-MODIFIED:20240507T212645Z
UID:10002723-1747245600-1747249200@events.kvia.com
SUMMARY:Zumba (Be Well El Paso)
DESCRIPTION:Join Liveactive EP in their free group fitness classes (City-wide movement to promote better health and wellness by encouraging physical activity\, improved nutrition\, and strong mental health.) Instructor: Suzi Adams
URL:https://events.kvia.com/event/zumba-be-well-el-paso/2025-05-14/
LOCATION:Gary Del Palacio Recreation Center\, 3001 Parkwood St\, El Paso\, 79925
CATEGORIES:Health and Wellness
ATTACH;FMTTYPE=image/jpeg:https://events.kvia.com/wp-content/uploads/2024/05/MGN_1280x720_10503B00-IOQRU.jpg
END:VEVENT
BEGIN:VEVENT
DTSTART;TZID=America/Los_Angeles:20250515T093000
DTEND;TZID=America/Los_Angeles:20250515T103000
DTSTAMP:20260421T173713
CREATED:20240507T205119Z
LAST-MODIFIED:20240507T205119Z
UID:10002386-1747301400-1747305000@events.kvia.com
SUMMARY:Yoga on Thursdays
DESCRIPTION:Join Liveactive EP in their free group fitness classes\n(City-wide movement to promote better health and wellness by encouraging physical activity\, improved nutrition\, and strong mental health.)\nInstructor: Aman Wraich (Free the Yoga
URL:https://events.kvia.com/event/yoga-on-thursdays/2025-05-15/
LOCATION:Gary Del Palacio Recreation Center\, 3001 Parkwood St\, El Paso\, 79925
CATEGORIES:Health and Wellness
ATTACH;FMTTYPE=image/jpeg:https://events.kvia.com/wp-content/uploads/2024/05/MGN_1280x720_81022P00-YKZWI.jpg
END:VEVENT
BEGIN:VEVENT
DTSTART;TZID=America/Los_Angeles:20250517T063000
DTEND;TZID=America/Los_Angeles:20250517T073000
DTSTAMP:20260421T173713
CREATED:20240507T211109Z
LAST-MODIFIED:20240507T212452Z
UID:10002859-1747463400-1747467000@events.kvia.com
SUMMARY:Aqua Strength
DESCRIPTION:Join Liveactive EP in their free group fitness classes (City-wide movement to promote better health and wellness by encouraging physical activity\, improved nutrition\, and strong mental health.) Instructor: Scott Smith (SI Fitness)
URL:https://events.kvia.com/event/aqua-strength/2025-05-17/
LOCATION:Marty Robbins Recreation Center\, 11620 Vista Del Sol Dr\, El Paso\, 79936
CATEGORIES:Health and Wellness
ATTACH;FMTTYPE=image/jpeg:https://events.kvia.com/wp-content/uploads/2024/05/MGN_1280x720_20620P00-LCUJF.jpg
END:VEVENT
BEGIN:VEVENT
DTSTART;TZID=America/Los_Angeles:20250517T090000
DTEND;TZID=America/Los_Angeles:20250517T100000
DTSTAMP:20260421T173713
CREATED:20240507T211327Z
LAST-MODIFIED:20240507T212332Z
UID:10002954-1747472400-1747476000@events.kvia.com
SUMMARY:Body Strength & Fitness Class
DESCRIPTION:Join Liveactive EP in their free group fitness classes (City-wide movement to promote better health and wellness by encouraging physical activity\, improved nutrition\, and strong mental health.)
URL:https://events.kvia.com/event/body-strength-fitness-class/2025-05-17/
LOCATION:Sylvia A. Carreon Community Center\, 709 Lomita Dr\, El Paso\, 79907
CATEGORIES:Health and Wellness
ATTACH;FMTTYPE=image/jpeg:https://events.kvia.com/wp-content/uploads/2024/05/MGN_1280x720_20928P00-QBVCK.jpg
END:VEVENT
BEGIN:VEVENT
DTSTART;TZID=America/Los_Angeles:20250517T090000
DTEND;TZID=America/Los_Angeles:20250517T160000
DTSTAMP:20260421T173713
CREATED:20250304T230650Z
LAST-MODIFIED:20250304T230650Z
UID:10003167-1747472400-1747497600@events.kvia.com
SUMMARY:UTEP Youth Programs and Camps – Saturday One-Day Camps
DESCRIPTION:UTEP Youth Programs and Camps has a variety of on-campus activities this spring to keep your kids engaged during the weekend. Young campers can develop their skills\, learn and have fun in the many one-day camps we offer. Our weekend camps can help improve academic skills\, develop confidence and more. Sign your child up for our Saturday One-Day camps: they’ll be guaranteed a fun and unique learning experience! Camps take place every Saturday from 9 a.m. to 4 p.m. for ages 6-12. For more information\, visit ppp.utep.edu/youthcourses or call 915-747-5142. \nTo register\, visit https://pace.utep.edu/wconnect/quickpick.awp
URL:https://events.kvia.com/event/utep-youth-programs-and-camps-saturday-one-day-camps-9/
LOCATION:UTEP Campus\, 500 W. University Ave.\, El Paso\, 79968
CATEGORIES:Community,Education
ATTACH;FMTTYPE=image/jpeg:https://events.kvia.com/wp-content/uploads/2025/03/Spr25-One-Day-Camps-Marquee-8.jpg
ORGANIZER;CN="Professional and Public Programs at UTEP":MAILTO:p3youth@utep.edu
END:VEVENT
BEGIN:VEVENT
DTSTART;TZID=America/Los_Angeles:20250519T180000
DTEND;TZID=America/Los_Angeles:20250519T190000
DTSTAMP:20260421T173713
CREATED:20240507T210046Z
LAST-MODIFIED:20240507T212723Z
UID:10002535-1747677600-1747681200@events.kvia.com
SUMMARY:Latin Cardio Dance
DESCRIPTION:Join Liveactive EP in their free group fitness classes (City-wide movement to promote better health and wellness by encouraging physical activity\, improved nutrition\, and strong mental health.) Instructor: Lizbeth Romero
URL:https://events.kvia.com/event/latin-cardio-dance/2025-05-19/
LOCATION:Chamizal Recreation Center and Library\, 2119 Cypress Ave\, El Paso\, 79905
CATEGORIES:Health and Wellness
ATTACH;FMTTYPE=image/jpeg:https://events.kvia.com/wp-content/uploads/2024/05/MGN_1280x720_10922P00-GKHCE.jpg
END:VEVENT
BEGIN:VEVENT
DTSTART;TZID=America/Los_Angeles:20250519T180000
DTEND;TZID=America/Los_Angeles:20250519T190000
DTSTAMP:20260421T173713
CREATED:20240507T210651Z
LAST-MODIFIED:20240507T212645Z
UID:10002724-1747677600-1747681200@events.kvia.com
SUMMARY:Zumba (Be Well El Paso)
DESCRIPTION:Join Liveactive EP in their free group fitness classes (City-wide movement to promote better health and wellness by encouraging physical activity\, improved nutrition\, and strong mental health.) Instructor: Suzi Adams
URL:https://events.kvia.com/event/zumba-be-well-el-paso/2025-05-19/
LOCATION:Gary Del Palacio Recreation Center\, 3001 Parkwood St\, El Paso\, 79925
CATEGORIES:Health and Wellness
ATTACH;FMTTYPE=image/jpeg:https://events.kvia.com/wp-content/uploads/2024/05/MGN_1280x720_10503B00-IOQRU.jpg
END:VEVENT
BEGIN:VEVENT
DTSTART;TZID=America/Los_Angeles:20250520T093000
DTEND;TZID=America/Los_Angeles:20250520T103000
DTSTAMP:20260421T173713
CREATED:20240507T204454Z
LAST-MODIFIED:20240507T204454Z
UID:10001902-1747733400-1747737000@events.kvia.com
SUMMARY:Yoga (Be Well El Paso)
DESCRIPTION:Join Liveactive EP in their free group fitness classes\n(City-wide movement to promote better health and wellness by encouraging physical activity\, improved nutrition\, and strong mental health.)\nInstructor: Aman Wraich (Free the Yoga)
URL:https://events.kvia.com/event/yoga-be-well-el-paso/2025-05-20/
LOCATION:Gary Del Palacio Recreation Center\, 3001 Parkwood St\, El Paso\, 79925
CATEGORIES:Health and Wellness
ATTACH;FMTTYPE=image/jpeg:https://events.kvia.com/wp-content/uploads/2024/05/MGN_1280x720_20928P00-YZGDL.jpg
END:VEVENT
BEGIN:VEVENT
DTSTART;TZID=America/Los_Angeles:20250521T180000
DTEND;TZID=America/Los_Angeles:20250521T190000
DTSTAMP:20260421T173713
CREATED:20240507T210046Z
LAST-MODIFIED:20240507T212723Z
UID:10002536-1747850400-1747854000@events.kvia.com
SUMMARY:Latin Cardio Dance
DESCRIPTION:Join Liveactive EP in their free group fitness classes (City-wide movement to promote better health and wellness by encouraging physical activity\, improved nutrition\, and strong mental health.) Instructor: Lizbeth Romero
URL:https://events.kvia.com/event/latin-cardio-dance/2025-05-21/
LOCATION:Chamizal Recreation Center and Library\, 2119 Cypress Ave\, El Paso\, 79905
CATEGORIES:Health and Wellness
ATTACH;FMTTYPE=image/jpeg:https://events.kvia.com/wp-content/uploads/2024/05/MGN_1280x720_10922P00-GKHCE.jpg
END:VEVENT
END:VCALENDAR