BEGIN:VCALENDAR
VERSION:2.0
PRODID:-//KVIA Events - ECPv6.15.20//NONSGML v1.0//EN
CALSCALE:GREGORIAN
METHOD:PUBLISH
X-WR-CALNAME:KVIA Events
X-ORIGINAL-URL:https://events.kvia.com
X-WR-CALDESC:Events for KVIA Events
REFRESH-INTERVAL;VALUE=DURATION:PT1H
X-Robots-Tag:noindex
X-PUBLISHED-TTL:PT1H
BEGIN:VTIMEZONE
TZID:America/Los_Angeles
BEGIN:DAYLIGHT
TZOFFSETFROM:-0800
TZOFFSETTO:-0700
TZNAME:PDT
DTSTART:20220313T100000
END:DAYLIGHT
BEGIN:STANDARD
TZOFFSETFROM:-0700
TZOFFSETTO:-0800
TZNAME:PST
DTSTART:20221106T090000
END:STANDARD
BEGIN:DAYLIGHT
TZOFFSETFROM:-0800
TZOFFSETTO:-0700
TZNAME:PDT
DTSTART:20230312T100000
END:DAYLIGHT
BEGIN:STANDARD
TZOFFSETFROM:-0700
TZOFFSETTO:-0800
TZNAME:PST
DTSTART:20231105T090000
END:STANDARD
BEGIN:DAYLIGHT
TZOFFSETFROM:-0800
TZOFFSETTO:-0700
TZNAME:PDT
DTSTART:20240310T100000
END:DAYLIGHT
BEGIN:STANDARD
TZOFFSETFROM:-0700
TZOFFSETTO:-0800
TZNAME:PST
DTSTART:20241103T090000
END:STANDARD
BEGIN:DAYLIGHT
TZOFFSETFROM:-0800
TZOFFSETTO:-0700
TZNAME:PDT
DTSTART:20250309T100000
END:DAYLIGHT
BEGIN:STANDARD
TZOFFSETFROM:-0700
TZOFFSETTO:-0800
TZNAME:PST
DTSTART:20251102T090000
END:STANDARD
END:VTIMEZONE
BEGIN:VTIMEZONE
TZID:America/Denver
BEGIN:DAYLIGHT
TZOFFSETFROM:-0700
TZOFFSETTO:-0600
TZNAME:MDT
DTSTART:20230312T090000
END:DAYLIGHT
BEGIN:STANDARD
TZOFFSETFROM:-0600
TZOFFSETTO:-0700
TZNAME:MST
DTSTART:20231105T080000
END:STANDARD
BEGIN:DAYLIGHT
TZOFFSETFROM:-0700
TZOFFSETTO:-0600
TZNAME:MDT
DTSTART:20240310T090000
END:DAYLIGHT
BEGIN:STANDARD
TZOFFSETFROM:-0600
TZOFFSETTO:-0700
TZNAME:MST
DTSTART:20241103T080000
END:STANDARD
BEGIN:DAYLIGHT
TZOFFSETFROM:-0700
TZOFFSETTO:-0600
TZNAME:MDT
DTSTART:20250309T090000
END:DAYLIGHT
BEGIN:STANDARD
TZOFFSETFROM:-0600
TZOFFSETTO:-0700
TZNAME:MST
DTSTART:20251102T080000
END:STANDARD
END:VTIMEZONE
BEGIN:VEVENT
DTSTART;TZID=America/Los_Angeles:20231202T080000
DTEND;TZID=America/Los_Angeles:20240131T170000
DTSTAMP:20260424T173542
CREATED:20231203T005358Z
LAST-MODIFIED:20231204T202301Z
UID:10001790-1701504000-1706720400@events.kvia.com
SUMMARY:Holidays at the Ice Rink
DESCRIPTION:Come skate on real ice with no long lines!  $20 for up to 4 hours\, skates included.  Military and group discounts available! Visit elpasohockey.org for dates and times. Located at the El Paso Rhinos Rink at 4100 E Paisano Ave 79905.
URL:https://events.kvia.com/event/holidays-at-the-ice-rink/
LOCATION:El Paso County Coliseum\, 4100 E Paisano Dr.\, El Paso\, 79905
ATTACH;FMTTYPE=image/jpeg:https://events.kvia.com/wp-content/uploads/2023/12/Public-Skating-896-x-640-px.jpg
END:VEVENT
BEGIN:VEVENT
DTSTART;VALUE=DATE:20240101
DTEND;VALUE=DATE:20240102
DTSTAMP:20260424T173542
CREATED:20231120T194726Z
LAST-MODIFIED:20231120T195211Z
UID:10002270-1704067200-1704153599@events.kvia.com
SUMMARY:WinterFest
DESCRIPTION:Admission: FREE*\n*Admission to Skating Rink and other attractions varies\, find more ticket information.
URL:https://events.kvia.com/event/winterfest/2024-01-01/
LOCATION:Downtown Arts District\, 114 W Mills Ave\, El Paso\, TX\, 79901\, United States
CATEGORIES:Fairs and Festivals
ATTACH;FMTTYPE=image/png:https://events.kvia.com/wp-content/uploads/2023/11/WinterFest-2.png
END:VEVENT
BEGIN:VEVENT
DTSTART;TZID=America/Los_Angeles:20240109T100000
DTEND;TZID=America/Los_Angeles:20240109T140000
DTSTAMP:20260424T173542
CREATED:20230815T210636Z
LAST-MODIFIED:20230815T210636Z
UID:10001697-1704794400-1704808800@events.kvia.com
SUMMARY:Paso del Norte Quilt Guild 2nd Sat/Monthly
DESCRIPTION:Paso del Norte Quilt Guild meets the 2nd Saturday of the month from 10 AM – 2 PM at St. Mark’s Methodist Church\, 5005 Love Rd\, El Paso\, Texas 79922 (Westside). Business meeting\, Show & Tell\, different types of drawings\, quilt challenge. We break for snacks/drinks/social time before Program. Program is a project workshop at no charge\, taught by a member. Facebook page: Paso del Norte Quilt Guild. Guests welcomed. Contact jsw79904@yahoo.com
URL:https://events.kvia.com/event/paso-del-norte-quilt-guild-2nd-sat-monthly/2024-01-09/
LOCATION:NM
CATEGORIES:Community
ATTACH;FMTTYPE=image/jpeg:https://events.kvia.com/wp-content/uploads/2023/08/Aurora-2-1.jpg
END:VEVENT
BEGIN:VEVENT
DTSTART;TZID=America/Los_Angeles:20240112T190000
DTEND;TZID=America/Los_Angeles:20240112T190000
DTSTAMP:20260424T173542
CREATED:20231121T011817Z
LAST-MODIFIED:20231121T011853Z
UID:10002282-1705086000-1705086000@events.kvia.com
SUMMARY:ROB SCHNEIDER: THE NARCISSIST CONFESSIONS
DESCRIPTION:Rob Schneider is an accomplished actor\, comedian\, screenwriter and director. A stand-up comic and veteran of the award-winning NBC sketch comedy series Saturday Night Live\, Schneider has gone on to a successful career in films\, television and continues his worldwide standup tour.
URL:https://events.kvia.com/event/rob-schneider-the-narcissist-confessions/
LOCATION:Plaza Theatre\, 125 W Mills Ave.\, El Paso\, 79901
CATEGORIES:Comedy
ATTACH;FMTTYPE=image/png:https://events.kvia.com/wp-content/uploads/2023/11/Rob-Schneider.png
END:VEVENT
BEGIN:VEVENT
DTSTART;TZID=America/Los_Angeles:20240113T193000
DTEND;TZID=America/Los_Angeles:20240113T193000
DTSTAMP:20260424T173542
CREATED:20231120T173334Z
LAST-MODIFIED:20231120T173543Z
UID:10001777-1705174200-1705174200@events.kvia.com
SUMMARY:WWE Supershow
DESCRIPTION:Ticket Limits\nThere is a Ten (10) ticket limit for this event. \n\n\nDoor Time\n6:00 PM
URL:https://events.kvia.com/event/wwe-supershow/
LOCATION:NMSU Pan American Center\, 1810 E University Ave.\, Las Cruces\, 88003
ATTACH;FMTTYPE=image/png:https://events.kvia.com/wp-content/uploads/2023/11/WWE.png
END:VEVENT
BEGIN:VEVENT
DTSTART;TZID=America/Los_Angeles:20240114T110000
DTEND;TZID=America/Los_Angeles:20240114T170000
DTSTAMP:20260424T173542
CREATED:20231211T183758Z
LAST-MODIFIED:20231212T004424Z
UID:10001795-1705230000-1705251600@events.kvia.com
SUMMARY:33rd annual Days of Remembrance Bridal Quince and Sweet 16 Expo
DESCRIPTION:33RD ANNUAL WINTER  \nDays of Remembrance  \nBridal\, Quince & Sweet 16 Expo in El Paso\, TX. \nElegant Penguin Enterprises presents the 33rd Annual Winter Days of Remembrance – El Paso’s Bridal\, Quince & Sweet 16 Expo at The El Paso Convention Center. This expo is the largest and longest running of its kind. With vendors who are ready to assist you and give you the best deals to help make your day\, a day to remember!  Jan 14th\, 2024    11AM to 5PM     The El Paso Convention Center. Have the chance to WIN THOUSANDS IN PRIZES AND YOUR HONEYMOON! (rules do apply) \n$5 per person (12 and under FREE)  100% of  Door proceeds benefit Paso del Norte Center of Hope \nTickets on sale ONLINE and at the door! \nDAYS OF REMEMBRANCE EXPO SPONSORED BY: \nTuscany Halls \nElegant Penguin Formal Wear El Paso
URL:https://events.kvia.com/event/33rd-annual-days-of-remembrance-bridal-quince-and-sweet-16-expo/
LOCATION:El Paso Convention Center\, 1 Civic Center Plaza\, El Paso\, 79901
CATEGORIES:Shopping
ATTACH;FMTTYPE=image/png:https://events.kvia.com/wp-content/uploads/2023/12/Days-of-Remembrance-Bridal-Quince-and-Sweet-16-Expo.png
ORGANIZER;CN="Elegant Penguin Enterprises":MAILTO:pachecogabi@ymail.com
END:VEVENT
BEGIN:VEVENT
DTSTART;TZID=America/Denver:20240118T183000
DTEND;TZID=America/Denver:20240118T203000
DTSTAMP:20260424T173542
CREATED:20231215T092534Z
LAST-MODIFIED:20240112T102711Z
UID:10001796-1705602600-1705609800@events.kvia.com
SUMMARY:LGBTQIA SPEED DATING MIXER (ALL AGES) 21+
DESCRIPTION:Get ready for a fabulous LGBTQIA speed dating mixer where people of all ages (21+) can mingle\, connect\, and find love in a fun and inclusive\n\n\nLGBTQIA SPEED DATING MIXER (ALL AGES) 21+ \nLooking for fun? Join us at the Aloft El Paso Downtown for a fun-filled LGBTQIA Speed Dating Mixer! Whether you’re gay\, lesbian\, bisexual\, transgender\, queer\, intersex\, asexual\, or any other identity\, this event is for you! With participants of all ages\, you’re bound to meet someone who sparks your interest. \nOur in-person event provides a comfortable and inclusive space for you to connect with like-minded individuals. Get ready to engage in quick\, exciting conversations with potential matches\, as you rotate from table to table. You’ll have the chance to meet a variety of people and make new connections. \nSo\, grab your friends or come solo\, and get ready for a night of laughter\, flirting\, and maybe even finding that special someone. Don’t miss out on this unique opportunity to meet fellow LGBTQIA individuals in a relaxed and welcoming environment. Mark your calendar for this exciting event!
URL:https://events.kvia.com/event/lgbtqia-speed-dating-mixer-all-ages-21/
LOCATION:Aloft El Paso Downtown\, 303 Texas Avenue\, El Paso\, TX\, 79901\, United States
ATTACH;FMTTYPE=image/jpeg:https://events.kvia.com/wp-content/uploads/2023/12/f1d2b085f32d646e9d09fbe8220bd247-8WA0XG.tmp_.jpg
END:VEVENT
BEGIN:VEVENT
DTSTART;TZID=America/Denver:20240120T150000
DTEND;TZID=America/Denver:20240120T170000
DTSTAMP:20260424T173542
CREATED:20231215T092535Z
LAST-MODIFIED:20240119T104248Z
UID:10001797-1705762800-1705770000@events.kvia.com
SUMMARY:SPEED DATING MIXER (AGES 21+ )
DESCRIPTION:Get ready to mingle and find your perfect match at our Speed Dating Mixer\, where sparks will fly and connections will be made in person!\n\n\nSPEED DATING MIXER \nLooking for fun? Join us for an exciting evening of speed dating at Aloft El Paso Downtown! Get ready to meet new people and make meaningful connections. Whether you’re single\, ready to mingle\, or just curious\, this in-person event is the perfect opportunity to find that special someone. \nOur speed dating mixer is designed to help you break the ice and have fun. You’ll have a chance to chat with multiple potential matches in a relaxed and casual environment. Who knows\, you might just find your perfect match! \nDon’t worry if you’re new to speed dating – our friendly hosts will guide you through the process and make sure everyone has a great time. So\, grab your friends or come solo\, and get ready for an unforgettable evening of laughter\, conversation\, and maybe even a little romance. \nEvent Details: \n\nName: SPEED DATING MIXER\nDate: Jan 20\, 2024\nTime: 3:00 pm – 5:30 pm\nLocation: Aloft El Paso Downtown\n\nRegister now and secure your spot at this exciting event! Don’t miss out on the chance to meet new people and potentially find love. We can’t wait to see you there!
URL:https://events.kvia.com/event/speed-dating-mixer-ages-21/
LOCATION:Aloft El Paso Downtown\, 303 Texas Avenue\, El Paso\, TX\, 79901\, United States
ATTACH;FMTTYPE=image/jpeg:https://events.kvia.com/wp-content/uploads/2024/01/3c4d483d1a776f89da63340276c5dc04-hjwBBf.tmp_.jpg
END:VEVENT
BEGIN:VEVENT
DTSTART;TZID=America/Los_Angeles:20240123T193000
DTEND;TZID=America/Los_Angeles:20240123T193000
DTSTAMP:20260424T173542
CREATED:20231121T012249Z
LAST-MODIFIED:20231121T012550Z
UID:10002283-1706038200-1706038200@events.kvia.com
SUMMARY:BRIAN REGAN
DESCRIPTION:Critics\, fans and fellow comedians agree: Brian Regan is one of the most respected comedians in the country with Vanity Fair calling Brian\, “The funniest stand-up alive\,” and Entertainment Weekly calling him\, “Your favorite comedian’s favorite comedian.” Having built his 30-plus year career on the strength of his material alone\, Brian’s non-stop theater tour continuously fills the most beautiful venues across North America\, visiting close to 100 cities each year.
URL:https://events.kvia.com/event/brian-regan/
LOCATION:Plaza Theatre\, 125 W Mills Ave.\, El Paso\, 79901
CATEGORIES:Comedy
ATTACH;FMTTYPE=image/png:https://events.kvia.com/wp-content/uploads/2023/11/Brian-Regan.png
END:VEVENT
BEGIN:VEVENT
DTSTART;TZID=America/Los_Angeles:20240127T140000
DTEND;TZID=America/Los_Angeles:20240127T170000
DTSTAMP:20260424T173542
CREATED:20240124T012114Z
LAST-MODIFIED:20240124T012114Z
UID:10002286-1706364000-1706374800@events.kvia.com
SUMMARY:Girls in Leadership Workshop
DESCRIPTION:The Girls in Leadership Workshop will bring together girls from around the El Paso community for workshops focused on girl empowerment\, leadership\, college readiness\, career exploration\, etiquette\, character\, wellness\, and confidence building. The workshop series aims to help girls grow as leaders and prepare for future personal\, academic\, and college success with sessions on leadership\, civic engagement\, volunteerism\, wellness\, career exploration\, and college preparation. Girls will discover engagement opportunities to volunteer and make a difference in their community. Girls will have an opportunity to connect with their peers and local women leaders to feel connected\, inspired\, and empowered. \nFor more information contact latinasinprogressep@gmail.com or 915-529-5755
URL:https://events.kvia.com/event/girls-in-leadership-workshop/
LOCATION:NM
CATEGORIES:Community
ATTACH;FMTTYPE=image/png:https://events.kvia.com/wp-content/uploads/2024/01/girlsinleadership.png
ORGANIZER;CN="Friends of YWLA":MAILTO:friendsofywla@gmail.com
END:VEVENT
END:VCALENDAR