BEGIN:VCALENDAR
VERSION:2.0
PRODID:-//KVIA Events - ECPv6.15.20//NONSGML v1.0//EN
CALSCALE:GREGORIAN
METHOD:PUBLISH
X-WR-CALNAME:KVIA Events
X-ORIGINAL-URL:https://events.kvia.com
X-WR-CALDESC:Events for KVIA Events
REFRESH-INTERVAL;VALUE=DURATION:PT1H
X-Robots-Tag:noindex
X-PUBLISHED-TTL:PT1H
BEGIN:VTIMEZONE
TZID:America/Los_Angeles
BEGIN:DAYLIGHT
TZOFFSETFROM:-0800
TZOFFSETTO:-0700
TZNAME:PDT
DTSTART:20240310T100000
END:DAYLIGHT
BEGIN:STANDARD
TZOFFSETFROM:-0700
TZOFFSETTO:-0800
TZNAME:PST
DTSTART:20241103T090000
END:STANDARD
BEGIN:DAYLIGHT
TZOFFSETFROM:-0800
TZOFFSETTO:-0700
TZNAME:PDT
DTSTART:20250309T100000
END:DAYLIGHT
BEGIN:STANDARD
TZOFFSETFROM:-0700
TZOFFSETTO:-0800
TZNAME:PST
DTSTART:20251102T090000
END:STANDARD
BEGIN:DAYLIGHT
TZOFFSETFROM:-0800
TZOFFSETTO:-0700
TZNAME:PDT
DTSTART:20260308T100000
END:DAYLIGHT
BEGIN:STANDARD
TZOFFSETFROM:-0700
TZOFFSETTO:-0800
TZNAME:PST
DTSTART:20261101T090000
END:STANDARD
END:VTIMEZONE
BEGIN:VEVENT
DTSTART;TZID=America/Los_Angeles:20250320T093000
DTEND;TZID=America/Los_Angeles:20250320T103000
DTSTAMP:20260424T013259
CREATED:20240507T205119Z
LAST-MODIFIED:20240507T205119Z
UID:10002378-1742463000-1742466600@events.kvia.com
SUMMARY:Yoga on Thursdays
DESCRIPTION:Join Liveactive EP in their free group fitness classes\n(City-wide movement to promote better health and wellness by encouraging physical activity\, improved nutrition\, and strong mental health.)\nInstructor: Aman Wraich (Free the Yoga
URL:https://events.kvia.com/event/yoga-on-thursdays/2025-03-20/
LOCATION:Gary Del Palacio Recreation Center\, 3001 Parkwood St\, El Paso\, 79925
CATEGORIES:Health and Wellness
ATTACH;FMTTYPE=image/jpeg:https://events.kvia.com/wp-content/uploads/2024/05/MGN_1280x720_81022P00-YKZWI.jpg
END:VEVENT
BEGIN:VEVENT
DTSTART;TZID=America/Los_Angeles:20250319T180000
DTEND;TZID=America/Los_Angeles:20250319T190000
DTSTAMP:20260424T013259
CREATED:20240507T210651Z
LAST-MODIFIED:20240507T212645Z
UID:10002707-1742407200-1742410800@events.kvia.com
SUMMARY:Zumba (Be Well El Paso)
DESCRIPTION:Join Liveactive EP in their free group fitness classes (City-wide movement to promote better health and wellness by encouraging physical activity\, improved nutrition\, and strong mental health.) Instructor: Suzi Adams
URL:https://events.kvia.com/event/zumba-be-well-el-paso/2025-03-19/
LOCATION:Gary Del Palacio Recreation Center\, 3001 Parkwood St\, El Paso\, 79925
CATEGORIES:Health and Wellness
ATTACH;FMTTYPE=image/jpeg:https://events.kvia.com/wp-content/uploads/2024/05/MGN_1280x720_10503B00-IOQRU.jpg
END:VEVENT
BEGIN:VEVENT
DTSTART;TZID=America/Los_Angeles:20250319T180000
DTEND;TZID=America/Los_Angeles:20250319T190000
DTSTAMP:20260424T013259
CREATED:20240507T210046Z
LAST-MODIFIED:20240507T212723Z
UID:10002518-1742407200-1742410800@events.kvia.com
SUMMARY:Latin Cardio Dance
DESCRIPTION:Join Liveactive EP in their free group fitness classes (City-wide movement to promote better health and wellness by encouraging physical activity\, improved nutrition\, and strong mental health.) Instructor: Lizbeth Romero
URL:https://events.kvia.com/event/latin-cardio-dance/2025-03-19/
LOCATION:Chamizal Recreation Center and Library\, 2119 Cypress Ave\, El Paso\, 79905
CATEGORIES:Health and Wellness
ATTACH;FMTTYPE=image/jpeg:https://events.kvia.com/wp-content/uploads/2024/05/MGN_1280x720_10922P00-GKHCE.jpg
END:VEVENT
BEGIN:VEVENT
DTSTART;TZID=America/Los_Angeles:20250318T093000
DTEND;TZID=America/Los_Angeles:20250318T103000
DTSTAMP:20260424T013259
CREATED:20240507T204454Z
LAST-MODIFIED:20240507T204454Z
UID:10001893-1742290200-1742293800@events.kvia.com
SUMMARY:Yoga (Be Well El Paso)
DESCRIPTION:Join Liveactive EP in their free group fitness classes\n(City-wide movement to promote better health and wellness by encouraging physical activity\, improved nutrition\, and strong mental health.)\nInstructor: Aman Wraich (Free the Yoga)
URL:https://events.kvia.com/event/yoga-be-well-el-paso/2025-03-18/
LOCATION:Gary Del Palacio Recreation Center\, 3001 Parkwood St\, El Paso\, 79925
CATEGORIES:Health and Wellness
ATTACH;FMTTYPE=image/jpeg:https://events.kvia.com/wp-content/uploads/2024/05/MGN_1280x720_20928P00-YZGDL.jpg
END:VEVENT
BEGIN:VEVENT
DTSTART;TZID=America/Los_Angeles:20250317T180000
DTEND;TZID=America/Los_Angeles:20250317T190000
DTSTAMP:20260424T013259
CREATED:20240507T210651Z
LAST-MODIFIED:20240507T212645Z
UID:10002706-1742234400-1742238000@events.kvia.com
SUMMARY:Zumba (Be Well El Paso)
DESCRIPTION:Join Liveactive EP in their free group fitness classes (City-wide movement to promote better health and wellness by encouraging physical activity\, improved nutrition\, and strong mental health.) Instructor: Suzi Adams
URL:https://events.kvia.com/event/zumba-be-well-el-paso/2025-03-17/
LOCATION:Gary Del Palacio Recreation Center\, 3001 Parkwood St\, El Paso\, 79925
CATEGORIES:Health and Wellness
ATTACH;FMTTYPE=image/jpeg:https://events.kvia.com/wp-content/uploads/2024/05/MGN_1280x720_10503B00-IOQRU.jpg
END:VEVENT
BEGIN:VEVENT
DTSTART;TZID=America/Los_Angeles:20250317T180000
DTEND;TZID=America/Los_Angeles:20250317T190000
DTSTAMP:20260424T013259
CREATED:20240507T210046Z
LAST-MODIFIED:20240507T212723Z
UID:10002517-1742234400-1742238000@events.kvia.com
SUMMARY:Latin Cardio Dance
DESCRIPTION:Join Liveactive EP in their free group fitness classes (City-wide movement to promote better health and wellness by encouraging physical activity\, improved nutrition\, and strong mental health.) Instructor: Lizbeth Romero
URL:https://events.kvia.com/event/latin-cardio-dance/2025-03-17/
LOCATION:Chamizal Recreation Center and Library\, 2119 Cypress Ave\, El Paso\, 79905
CATEGORIES:Health and Wellness
ATTACH;FMTTYPE=image/jpeg:https://events.kvia.com/wp-content/uploads/2024/05/MGN_1280x720_10922P00-GKHCE.jpg
END:VEVENT
BEGIN:VEVENT
DTSTART;TZID=America/Los_Angeles:20250315T130000
DTEND;TZID=America/Los_Angeles:20250315T143000
DTSTAMP:20260424T013259
CREATED:20250226T185728Z
LAST-MODIFIED:20250226T185728Z
UID:10003156-1742043600-1742049000@events.kvia.com
SUMMARY:Easter Bunny Paint Pouring Class
DESCRIPTION: Easter-Themed Paint Pouring Class! \nJoin us for a fun & creative painting class on March 15 & 29 from 1:00–2:30 PM at Artspace Gallery (601 N Oregon St\, Downtown El Paso\, TX)!\n Get ready to decorate & paint pour over a Bunny-shaped Piggy Bank (9 inches tall) & a small canvas! All supplies included—just bring your creativity!\n Ages 3+ |  $35 per person |  Limited spots—book now!\n Please note: Since paint takes time to dry\, you’re welcome to leave your project in the gallery over the weekend. Once it’s dry\, you can pick it up anytime\, OR get 25% off the next weekend class\, come back for another fun project\, and take your Bunny home then!\n Location: Artspace Gallery\, 601 N Oregon St\, El Paso\, TX 79901 Reserve your spot at www.DIYworkshopEP.com\n Follow us on Instagram: @DIYworkshop.EP\nRefund Policy: Gift cards and purchased classes are non-refundable. However\, knowing how life can change\, we offer a full refund on another gift card (usable only on our website)\, so you can manage your schedule and join a class at a more convenient time.\nTag a friend & hop into the fun!  #EasterCrafts #PaintPouring #DIYWorkshopEP
URL:https://events.kvia.com/event/easter-bunny-paint-pouring-class/2025-03-15/
LOCATION:Roderick Artspace Gallery\, 601 N Oregon St\, El Paso\, 79901
CATEGORIES:Art and Exhibits
ATTACH;FMTTYPE=image/png:https://events.kvia.com/wp-content/uploads/2025/02/DIY-Instagram.png
ORGANIZER;CN="DIY Workshop El Paso%2C TX":MAILTO:diyworkshop.ep@gmail.com
END:VEVENT
BEGIN:VEVENT
DTSTART;TZID=America/Los_Angeles:20250315T090000
DTEND;TZID=America/Los_Angeles:20250315T160000
DTSTAMP:20260424T013259
CREATED:20250304T212707Z
LAST-MODIFIED:20250304T212707Z
UID:10003160-1742029200-1742054400@events.kvia.com
SUMMARY:UTEP Youth Programs and Camps – Saturday One-Day Camps
DESCRIPTION:UTEP Youth Programs and Camps has a variety of on-campus activities this spring to keep your kids engaged during the weekend. Young campers can develop their skills\, learn and have fun in the many one-day camps we offer. Our weekend camps can help improve academic skills\, develop confidence and more. Sign your child up for our Saturday One-Day camps: they’ll be guaranteed a fun and unique learning experience! Camps take place every Saturday from 9 a.m. to 4 p.m. for ages 6-12. For more information\, visit ppp.utep.edu/youthcourses or call 915-747-5142. \nTo register\, visit https://pace.utep.edu/wconnect/quickpick.awp
URL:https://events.kvia.com/event/utep-youth-programs-and-camps-saturday-one-day-camps-2/
LOCATION:UTEP Campus\, 500 W. University Ave.\, El Paso\, 79968
CATEGORIES:Community,Education
ATTACH;FMTTYPE=image/jpeg:https://events.kvia.com/wp-content/uploads/2025/03/Spr25-One-Day-Camps-Marquee-1.jpg
ORGANIZER;CN="Professional and Public Programs at UTEP":MAILTO:p3youth@utep.edu
END:VEVENT
BEGIN:VEVENT
DTSTART;TZID=America/Los_Angeles:20250315T090000
DTEND;TZID=America/Los_Angeles:20250315T100000
DTSTAMP:20260424T013259
CREATED:20240507T211327Z
LAST-MODIFIED:20240507T212332Z
UID:10002945-1742029200-1742032800@events.kvia.com
SUMMARY:Body Strength & Fitness Class
DESCRIPTION:Join Liveactive EP in their free group fitness classes (City-wide movement to promote better health and wellness by encouraging physical activity\, improved nutrition\, and strong mental health.)
URL:https://events.kvia.com/event/body-strength-fitness-class/2025-03-15/
LOCATION:Sylvia A. Carreon Community Center\, 709 Lomita Dr\, El Paso\, 79907
CATEGORIES:Health and Wellness
ATTACH;FMTTYPE=image/jpeg:https://events.kvia.com/wp-content/uploads/2024/05/MGN_1280x720_20928P00-QBVCK.jpg
END:VEVENT
BEGIN:VEVENT
DTSTART;TZID=America/Los_Angeles:20250315T063000
DTEND;TZID=America/Los_Angeles:20250315T073000
DTSTAMP:20260424T013259
CREATED:20240507T211109Z
LAST-MODIFIED:20240507T212452Z
UID:10002850-1742020200-1742023800@events.kvia.com
SUMMARY:Aqua Strength
DESCRIPTION:Join Liveactive EP in their free group fitness classes (City-wide movement to promote better health and wellness by encouraging physical activity\, improved nutrition\, and strong mental health.) Instructor: Scott Smith (SI Fitness)
URL:https://events.kvia.com/event/aqua-strength/2025-03-15/
LOCATION:Marty Robbins Recreation Center\, 11620 Vista Del Sol Dr\, El Paso\, 79936
CATEGORIES:Health and Wellness
ATTACH;FMTTYPE=image/jpeg:https://events.kvia.com/wp-content/uploads/2024/05/MGN_1280x720_20620P00-LCUJF.jpg
END:VEVENT
BEGIN:VEVENT
DTSTART;TZID=America/Los_Angeles:20250314T100000
DTEND;TZID=America/Los_Angeles:20250314T130000
DTSTAMP:20260424T013259
CREATED:20250224T200951Z
LAST-MODIFIED:20250224T200951Z
UID:10003155-1741946400-1741957200@events.kvia.com
SUMMARY:School Break Water Discovery Series
DESCRIPTION:Have fun with arts and crafts that\ninvolve water in the following activities: \nupcycled bird feeder\nwilderness bracelet\nmusical maraca
URL:https://events.kvia.com/event/school-break-water-discovery-series/
LOCATION:10751 Montana Ave.\, 10751 Montana\, El Paso\, 79935
CATEGORIES:Community
ORGANIZER;CN="Csanchez@epwater.org":MAILTO:csanchez@epwater.org
END:VEVENT
BEGIN:VEVENT
DTSTART;TZID=America/Los_Angeles:20250313T093000
DTEND;TZID=America/Los_Angeles:20250313T103000
DTSTAMP:20260424T013259
CREATED:20240507T205119Z
LAST-MODIFIED:20240507T205119Z
UID:10002377-1741858200-1741861800@events.kvia.com
SUMMARY:Yoga on Thursdays
DESCRIPTION:Join Liveactive EP in their free group fitness classes\n(City-wide movement to promote better health and wellness by encouraging physical activity\, improved nutrition\, and strong mental health.)\nInstructor: Aman Wraich (Free the Yoga
URL:https://events.kvia.com/event/yoga-on-thursdays/2025-03-13/
LOCATION:Gary Del Palacio Recreation Center\, 3001 Parkwood St\, El Paso\, 79925
CATEGORIES:Health and Wellness
ATTACH;FMTTYPE=image/jpeg:https://events.kvia.com/wp-content/uploads/2024/05/MGN_1280x720_81022P00-YKZWI.jpg
END:VEVENT
BEGIN:VEVENT
DTSTART;TZID=America/Los_Angeles:20250313T090000
DTEND;TZID=America/Los_Angeles:20250313T110000
DTSTAMP:20260424T013259
CREATED:20250228T184547Z
LAST-MODIFIED:20250228T184547Z
UID:10003158-1741856400-1741863600@events.kvia.com
SUMMARY:DONA ANA REZONING MEETING
DESCRIPTION:The Dona Ana Planning and Zoning will consider a Zone Change right along the Texas New Mexico Stateline. \nResidents in the one-mile radius are very concerned about this Special Use Permit to operate a Cannabis Consumption Lounge and Cultivation \nthis is statistically placed right at the border to attract Texas residents to the Location. \nThere was no consideration of the Impact this will have for on the Residential in all the surrounding areas. The Roads Borderland\, Westside Drive\, Gato and Especially Gardner Rd will be severely impacted. The Safety and Health of the Residents is at stake here. \nMeetings have been organized.  the lack of visible signs from the County has prompted residents to make their own signs. \nResidents will be holding a second meeting Thursday March 6th 2025  at 5PM at 1224 Gardner Rd (Residents Home) \nPLEASE HELP US SPREAD THE WORD!
URL:https://events.kvia.com/event/dona-ana-rezoning-meeting/
LOCATION:NM
CATEGORIES:Community
ORGANIZER;CN="MARTHA MARTINEZ":MAILTO:martha_mtz3@yahoo.com
END:VEVENT
BEGIN:VEVENT
DTSTART;TZID=America/Los_Angeles:20250312T180000
DTEND;TZID=America/Los_Angeles:20250312T190000
DTSTAMP:20260424T013259
CREATED:20240507T210651Z
LAST-MODIFIED:20240507T212645Z
UID:10002705-1741802400-1741806000@events.kvia.com
SUMMARY:Zumba (Be Well El Paso)
DESCRIPTION:Join Liveactive EP in their free group fitness classes (City-wide movement to promote better health and wellness by encouraging physical activity\, improved nutrition\, and strong mental health.) Instructor: Suzi Adams
URL:https://events.kvia.com/event/zumba-be-well-el-paso/2025-03-12/
LOCATION:Gary Del Palacio Recreation Center\, 3001 Parkwood St\, El Paso\, 79925
CATEGORIES:Health and Wellness
ATTACH;FMTTYPE=image/jpeg:https://events.kvia.com/wp-content/uploads/2024/05/MGN_1280x720_10503B00-IOQRU.jpg
END:VEVENT
BEGIN:VEVENT
DTSTART;TZID=America/Los_Angeles:20250312T180000
DTEND;TZID=America/Los_Angeles:20250312T190000
DTSTAMP:20260424T013259
CREATED:20240507T210046Z
LAST-MODIFIED:20240507T212723Z
UID:10002516-1741802400-1741806000@events.kvia.com
SUMMARY:Latin Cardio Dance
DESCRIPTION:Join Liveactive EP in their free group fitness classes (City-wide movement to promote better health and wellness by encouraging physical activity\, improved nutrition\, and strong mental health.) Instructor: Lizbeth Romero
URL:https://events.kvia.com/event/latin-cardio-dance/2025-03-12/
LOCATION:Chamizal Recreation Center and Library\, 2119 Cypress Ave\, El Paso\, 79905
CATEGORIES:Health and Wellness
ATTACH;FMTTYPE=image/jpeg:https://events.kvia.com/wp-content/uploads/2024/05/MGN_1280x720_10922P00-GKHCE.jpg
END:VEVENT
BEGIN:VEVENT
DTSTART;TZID=America/Los_Angeles:20250311T093000
DTEND;TZID=America/Los_Angeles:20250311T103000
DTSTAMP:20260424T013259
CREATED:20240507T204454Z
LAST-MODIFIED:20240507T204454Z
UID:10001892-1741685400-1741689000@events.kvia.com
SUMMARY:Yoga (Be Well El Paso)
DESCRIPTION:Join Liveactive EP in their free group fitness classes\n(City-wide movement to promote better health and wellness by encouraging physical activity\, improved nutrition\, and strong mental health.)\nInstructor: Aman Wraich (Free the Yoga)
URL:https://events.kvia.com/event/yoga-be-well-el-paso/2025-03-11/
LOCATION:Gary Del Palacio Recreation Center\, 3001 Parkwood St\, El Paso\, 79925
CATEGORIES:Health and Wellness
ATTACH;FMTTYPE=image/jpeg:https://events.kvia.com/wp-content/uploads/2024/05/MGN_1280x720_20928P00-YZGDL.jpg
END:VEVENT
BEGIN:VEVENT
DTSTART;TZID=America/Los_Angeles:20250310T180000
DTEND;TZID=America/Los_Angeles:20250310T190000
DTSTAMP:20260424T013259
CREATED:20240507T210651Z
LAST-MODIFIED:20240507T212645Z
UID:10002704-1741629600-1741633200@events.kvia.com
SUMMARY:Zumba (Be Well El Paso)
DESCRIPTION:Join Liveactive EP in their free group fitness classes (City-wide movement to promote better health and wellness by encouraging physical activity\, improved nutrition\, and strong mental health.) Instructor: Suzi Adams
URL:https://events.kvia.com/event/zumba-be-well-el-paso/2025-03-10/
LOCATION:Gary Del Palacio Recreation Center\, 3001 Parkwood St\, El Paso\, 79925
CATEGORIES:Health and Wellness
ATTACH;FMTTYPE=image/jpeg:https://events.kvia.com/wp-content/uploads/2024/05/MGN_1280x720_10503B00-IOQRU.jpg
END:VEVENT
BEGIN:VEVENT
DTSTART;TZID=America/Los_Angeles:20250310T180000
DTEND;TZID=America/Los_Angeles:20250310T190000
DTSTAMP:20260424T013259
CREATED:20240507T210046Z
LAST-MODIFIED:20240507T212723Z
UID:10002515-1741629600-1741633200@events.kvia.com
SUMMARY:Latin Cardio Dance
DESCRIPTION:Join Liveactive EP in their free group fitness classes (City-wide movement to promote better health and wellness by encouraging physical activity\, improved nutrition\, and strong mental health.) Instructor: Lizbeth Romero
URL:https://events.kvia.com/event/latin-cardio-dance/2025-03-10/
LOCATION:Chamizal Recreation Center and Library\, 2119 Cypress Ave\, El Paso\, 79905
CATEGORIES:Health and Wellness
ATTACH;FMTTYPE=image/jpeg:https://events.kvia.com/wp-content/uploads/2024/05/MGN_1280x720_10922P00-GKHCE.jpg
END:VEVENT
BEGIN:VEVENT
DTSTART;TZID=America/Los_Angeles:20250308T090000
DTEND;TZID=America/Los_Angeles:20250308T160000
DTSTAMP:20260424T013259
CREATED:20250304T212700Z
LAST-MODIFIED:20250304T212700Z
UID:10003159-1741424400-1741449600@events.kvia.com
SUMMARY:UTEP Youth Programs and Camps – Saturday One-Day Camps
DESCRIPTION:UTEP Youth Programs and Camps has a variety of on-campus activities this spring to keep your kids engaged during the weekend. Young campers can develop their skills\, learn and have fun in the many one-day camps we offer. Our weekend camps can help improve academic skills\, develop confidence and more. Sign your child up for our Saturday One-Day camps: they’ll be guaranteed a fun and unique learning experience! Camps take place every Saturday from 9 a.m. to 4 p.m. for ages 6-12. For more information\, visit ppp.utep.edu/youthcourses or call 915-747-5142. \nTo register\, visit https://pace.utep.edu/wconnect/quickpick.awp
URL:https://events.kvia.com/event/utep-youth-programs-and-camps-saturday-one-day-camps/
LOCATION:UTEP Campus\, 500 W. University Ave.\, El Paso\, 79968
CATEGORIES:Community,Education
ATTACH;FMTTYPE=image/jpeg:https://events.kvia.com/wp-content/uploads/2025/03/Spr25-One-Day-Camps-Marquee.jpg
ORGANIZER;CN="Professional and Public Programs at UTEP":MAILTO:p3youth@utep.edu
END:VEVENT
BEGIN:VEVENT
DTSTART;TZID=America/Los_Angeles:20250308T090000
DTEND;TZID=America/Los_Angeles:20250308T100000
DTSTAMP:20260424T013259
CREATED:20240507T211327Z
LAST-MODIFIED:20240507T212332Z
UID:10002944-1741424400-1741428000@events.kvia.com
SUMMARY:Body Strength & Fitness Class
DESCRIPTION:Join Liveactive EP in their free group fitness classes (City-wide movement to promote better health and wellness by encouraging physical activity\, improved nutrition\, and strong mental health.)
URL:https://events.kvia.com/event/body-strength-fitness-class/2025-03-08/
LOCATION:Sylvia A. Carreon Community Center\, 709 Lomita Dr\, El Paso\, 79907
CATEGORIES:Health and Wellness
ATTACH;FMTTYPE=image/jpeg:https://events.kvia.com/wp-content/uploads/2024/05/MGN_1280x720_20928P00-QBVCK.jpg
END:VEVENT
BEGIN:VEVENT
DTSTART;TZID=America/Los_Angeles:20250308T063000
DTEND;TZID=America/Los_Angeles:20250308T073000
DTSTAMP:20260424T013259
CREATED:20240507T211109Z
LAST-MODIFIED:20240507T212452Z
UID:10002849-1741415400-1741419000@events.kvia.com
SUMMARY:Aqua Strength
DESCRIPTION:Join Liveactive EP in their free group fitness classes (City-wide movement to promote better health and wellness by encouraging physical activity\, improved nutrition\, and strong mental health.) Instructor: Scott Smith (SI Fitness)
URL:https://events.kvia.com/event/aqua-strength/2025-03-08/
LOCATION:Marty Robbins Recreation Center\, 11620 Vista Del Sol Dr\, El Paso\, 79936
CATEGORIES:Health and Wellness
ATTACH;FMTTYPE=image/jpeg:https://events.kvia.com/wp-content/uploads/2024/05/MGN_1280x720_20620P00-LCUJF.jpg
END:VEVENT
BEGIN:VEVENT
DTSTART;TZID=America/Los_Angeles:20250306T093000
DTEND;TZID=America/Los_Angeles:20250306T103000
DTSTAMP:20260424T013259
CREATED:20240507T205119Z
LAST-MODIFIED:20240507T205119Z
UID:10002376-1741253400-1741257000@events.kvia.com
SUMMARY:Yoga on Thursdays
DESCRIPTION:Join Liveactive EP in their free group fitness classes\n(City-wide movement to promote better health and wellness by encouraging physical activity\, improved nutrition\, and strong mental health.)\nInstructor: Aman Wraich (Free the Yoga
URL:https://events.kvia.com/event/yoga-on-thursdays/2025-03-06/
LOCATION:Gary Del Palacio Recreation Center\, 3001 Parkwood St\, El Paso\, 79925
CATEGORIES:Health and Wellness
ATTACH;FMTTYPE=image/jpeg:https://events.kvia.com/wp-content/uploads/2024/05/MGN_1280x720_81022P00-YKZWI.jpg
END:VEVENT
BEGIN:VEVENT
DTSTART;TZID=America/Los_Angeles:20250305T180000
DTEND;TZID=America/Los_Angeles:20250305T190000
DTSTAMP:20260424T013259
CREATED:20240507T210651Z
LAST-MODIFIED:20240507T212645Z
UID:10002703-1741197600-1741201200@events.kvia.com
SUMMARY:Zumba (Be Well El Paso)
DESCRIPTION:Join Liveactive EP in their free group fitness classes (City-wide movement to promote better health and wellness by encouraging physical activity\, improved nutrition\, and strong mental health.) Instructor: Suzi Adams
URL:https://events.kvia.com/event/zumba-be-well-el-paso/2025-03-05/
LOCATION:Gary Del Palacio Recreation Center\, 3001 Parkwood St\, El Paso\, 79925
CATEGORIES:Health and Wellness
ATTACH;FMTTYPE=image/jpeg:https://events.kvia.com/wp-content/uploads/2024/05/MGN_1280x720_10503B00-IOQRU.jpg
END:VEVENT
BEGIN:VEVENT
DTSTART;TZID=America/Los_Angeles:20250305T180000
DTEND;TZID=America/Los_Angeles:20250305T190000
DTSTAMP:20260424T013259
CREATED:20240507T210046Z
LAST-MODIFIED:20240507T212723Z
UID:10002514-1741197600-1741201200@events.kvia.com
SUMMARY:Latin Cardio Dance
DESCRIPTION:Join Liveactive EP in their free group fitness classes (City-wide movement to promote better health and wellness by encouraging physical activity\, improved nutrition\, and strong mental health.) Instructor: Lizbeth Romero
URL:https://events.kvia.com/event/latin-cardio-dance/2025-03-05/
LOCATION:Chamizal Recreation Center and Library\, 2119 Cypress Ave\, El Paso\, 79905
CATEGORIES:Health and Wellness
ATTACH;FMTTYPE=image/jpeg:https://events.kvia.com/wp-content/uploads/2024/05/MGN_1280x720_10922P00-GKHCE.jpg
END:VEVENT
BEGIN:VEVENT
DTSTART;TZID=America/Los_Angeles:20250304T093000
DTEND;TZID=America/Los_Angeles:20250304T103000
DTSTAMP:20260424T013259
CREATED:20240507T204454Z
LAST-MODIFIED:20240507T204454Z
UID:10001891-1741080600-1741084200@events.kvia.com
SUMMARY:Yoga (Be Well El Paso)
DESCRIPTION:Join Liveactive EP in their free group fitness classes\n(City-wide movement to promote better health and wellness by encouraging physical activity\, improved nutrition\, and strong mental health.)\nInstructor: Aman Wraich (Free the Yoga)
URL:https://events.kvia.com/event/yoga-be-well-el-paso/2025-03-04/
LOCATION:Gary Del Palacio Recreation Center\, 3001 Parkwood St\, El Paso\, 79925
CATEGORIES:Health and Wellness
ATTACH;FMTTYPE=image/jpeg:https://events.kvia.com/wp-content/uploads/2024/05/MGN_1280x720_20928P00-YZGDL.jpg
END:VEVENT
BEGIN:VEVENT
DTSTART;TZID=America/Los_Angeles:20250303T180000
DTEND;TZID=America/Los_Angeles:20250303T190000
DTSTAMP:20260424T013259
CREATED:20240507T210651Z
LAST-MODIFIED:20240507T212645Z
UID:10002702-1741024800-1741028400@events.kvia.com
SUMMARY:Zumba (Be Well El Paso)
DESCRIPTION:Join Liveactive EP in their free group fitness classes (City-wide movement to promote better health and wellness by encouraging physical activity\, improved nutrition\, and strong mental health.) Instructor: Suzi Adams
URL:https://events.kvia.com/event/zumba-be-well-el-paso/2025-03-03/
LOCATION:Gary Del Palacio Recreation Center\, 3001 Parkwood St\, El Paso\, 79925
CATEGORIES:Health and Wellness
ATTACH;FMTTYPE=image/jpeg:https://events.kvia.com/wp-content/uploads/2024/05/MGN_1280x720_10503B00-IOQRU.jpg
END:VEVENT
BEGIN:VEVENT
DTSTART;TZID=America/Los_Angeles:20250303T180000
DTEND;TZID=America/Los_Angeles:20250303T190000
DTSTAMP:20260424T013259
CREATED:20240507T210046Z
LAST-MODIFIED:20240507T212723Z
UID:10002513-1741024800-1741028400@events.kvia.com
SUMMARY:Latin Cardio Dance
DESCRIPTION:Join Liveactive EP in their free group fitness classes (City-wide movement to promote better health and wellness by encouraging physical activity\, improved nutrition\, and strong mental health.) Instructor: Lizbeth Romero
URL:https://events.kvia.com/event/latin-cardio-dance/2025-03-03/
LOCATION:Chamizal Recreation Center and Library\, 2119 Cypress Ave\, El Paso\, 79905
CATEGORIES:Health and Wellness
ATTACH;FMTTYPE=image/jpeg:https://events.kvia.com/wp-content/uploads/2024/05/MGN_1280x720_10922P00-GKHCE.jpg
END:VEVENT
BEGIN:VEVENT
DTSTART;TZID=America/Los_Angeles:20250302T080000
DTEND;TZID=America/Los_Angeles:20250302T080000
DTSTAMP:20260424T013259
CREATED:20240507T212039Z
LAST-MODIFIED:20240507T213108Z
UID:10003005-1740902400-1740902400@events.kvia.com
SUMMARY:Low Sensory Sunday
DESCRIPTION:For a quieter\, calmer zoo experience\, we are open an hour early to allow guests enjoy the zoo before the crowds settle in. \nThe Zoo has designated quiet zones and identified headphone zones to provide a calm and quiet area for visitors with sensory needs. \nSensory sensitivities or challenges with sensory regulation are often experienced by individuals with autism\, dementia\, PTSD\, and other similar conditions.
URL:https://events.kvia.com/event/low-sensory-sunday/2025-03-02/
LOCATION:El Paso Zoo\, 4001 E Paisano Dr\, El Paso\, 79905
ATTACH;FMTTYPE=image/png:https://events.kvia.com/wp-content/uploads/2024/05/Low-Sensory-Sundays.png
END:VEVENT
BEGIN:VEVENT
DTSTART;TZID=America/Los_Angeles:20250301T170000
DTEND;TZID=America/Los_Angeles:20250301T220000
DTSTAMP:20260424T013259
CREATED:20250120T170451Z
LAST-MODIFIED:20250120T170451Z
UID:10003087-1740848400-1740866400@events.kvia.com
SUMMARY:3rd Annual El Paso Strong Fashion Show
DESCRIPTION:Are you READY TO KICK OFF 2025 IN STYLE?! ✨ \nWe hope to see you ALL at: \nThe 3rd Annual El Paso Strong Fashion Show\nLocation: San Jacinto Plaza\nMarch 1\,2025\n1:00-4:00p.m. \nThis year we decided to kick things up a notch and give back to the community like never before! Not only will we be showcasing ALL LOCAL DESIGNERS and CREATORS\, we will also be donating a portion of sponsorship proceeds to the Rescue Mission El Paso as we have the past 2 years of hosting this event as well as to celebrate our THIRD YEAR of being blessed to put on this event for the community\, we will be giving cash prizes to the VOTED TOP 3 DESIGNERS of the show!! \nThere will be live performances by local entertainment\, food trucks AND MORE!! \nAs ALWAYS this event will be FREE to the public!! We look forward to seeing you there!!
URL:https://events.kvia.com/event/3rd-annual-el-paso-strong-fashion-show/
LOCATION:San Jacinto Plaza\, 114 W Mills Ave\,\, El Paso
CATEGORIES:Art and Exhibits
ATTACH;FMTTYPE=image/jpeg:https://events.kvia.com/wp-content/uploads/2025/01/Show-2025.jpg
ORGANIZER;CN="The Queen Has Spoken Entertainment Agenty":MAILTO:thequeenhasspoken915@gmail.com
END:VEVENT
BEGIN:VEVENT
DTSTART;TZID=America/Los_Angeles:20250301T140000
DTEND;TZID=America/Los_Angeles:20250301T160000
DTSTAMP:20260424T013259
CREATED:20250116T181741Z
LAST-MODIFIED:20250116T181741Z
UID:10002000-1740837600-1740844800@events.kvia.com
SUMMARY:Changing Tides: Legacy of Watermedia Opening Reception
DESCRIPTION:Changing Tides: The Legacy of Watermedia is a celebration of watermedia and we can’t wait to share it with our community! Please join us for our opening reception on  Saturday\, March 1 from 2-4 pm.  \nArtists of all ages and experiences were invited to participate in our community gallery\, celebrating the tradition of watermedia and exploring its future. \nIn addition to artists participating in our open call\, this gallery will feature a legacy showcase\, commemorating the history and artistic achievements of the Rio Bravo Watercolorists. \nChanging Tides will be on view from Saturday\, March 1 through Sunday\, April 13\, 2025. All are welcome at our opening reception on Saturday\, March 1 from 2-4 pm. Light refreshments will be served. 
URL:https://events.kvia.com/event/changing-tides-legacy-of-watermedia-opening-reception/
LOCATION:International Museum of Art\, 1211 Montana Avenue\, El Paso\, TX\, 79902\, United States
CATEGORIES:Art and Exhibits
ATTACH;FMTTYPE=image/png:https://events.kvia.com/wp-content/uploads/2025/01/1-1.png
ORGANIZER;CN="International Museum of Art":MAILTO:international.art.musuem@gmail.com
END:VEVENT
END:VCALENDAR