BEGIN:VCALENDAR
VERSION:2.0
PRODID:-//KVIA Events - ECPv6.15.20//NONSGML v1.0//EN
CALSCALE:GREGORIAN
METHOD:PUBLISH
X-ORIGINAL-URL:https://events.kvia.com
X-WR-CALDESC:Events for KVIA Events
REFRESH-INTERVAL;VALUE=DURATION:PT1H
X-Robots-Tag:noindex
X-PUBLISHED-TTL:PT1H
BEGIN:VTIMEZONE
TZID:America/Los_Angeles
BEGIN:DAYLIGHT
TZOFFSETFROM:-0800
TZOFFSETTO:-0700
TZNAME:PDT
DTSTART:20230312T100000
END:DAYLIGHT
BEGIN:STANDARD
TZOFFSETFROM:-0700
TZOFFSETTO:-0800
TZNAME:PST
DTSTART:20231105T090000
END:STANDARD
BEGIN:DAYLIGHT
TZOFFSETFROM:-0800
TZOFFSETTO:-0700
TZNAME:PDT
DTSTART:20240310T100000
END:DAYLIGHT
BEGIN:STANDARD
TZOFFSETFROM:-0700
TZOFFSETTO:-0800
TZNAME:PST
DTSTART:20241103T090000
END:STANDARD
BEGIN:DAYLIGHT
TZOFFSETFROM:-0800
TZOFFSETTO:-0700
TZNAME:PDT
DTSTART:20250309T100000
END:DAYLIGHT
BEGIN:STANDARD
TZOFFSETFROM:-0700
TZOFFSETTO:-0800
TZNAME:PST
DTSTART:20251102T090000
END:STANDARD
END:VTIMEZONE
BEGIN:VEVENT
DTSTART;VALUE=DATE:20240720
DTEND;VALUE=DATE:20240818
DTSTAMP:20260421T231324
CREATED:20240527T161202Z
LAST-MODIFIED:20240527T161202Z
UID:10001945-1721433600-1723939199@events.kvia.com
SUMMARY:Castner Range: From the First People to Forever
DESCRIPTION:Celebrate the 1st anniversary of Castner Range National Monument with a FREE community art show! \nThe International Museum of Art and The Frontera Land Alliance are partnering to host Castner Range: From First People to Forever. This show features local artists whose work captures the unique biological\, geological\, historical & cultural importance of Castner Range. \nCastner Range: From the First People to Forever will be on view from July 20-August 17\, 2024. This show is free and open to the public. All are welcome to learn more about CRNM at our Family Day on Sunday\, August 4\, 2024 from 2-4 pm
URL:https://events.kvia.com/event/castner-range-from-the-first-people-to-forever/
LOCATION:International Museum of Art\, 1211 Montana Avenue\, El Paso\, TX\, 79902\, United States
CATEGORIES:Art and Exhibits,Community,Education
ATTACH;FMTTYPE=image/png:https://events.kvia.com/wp-content/uploads/2024/05/Call-to-artists-Castner-Range-1.png
ORGANIZER;CN="International Museum of Art":MAILTO:international.art.musuem@gmail.com
END:VEVENT
END:VCALENDAR