BEGIN:VCALENDAR
VERSION:2.0
PRODID:-//KVIA Events - ECPv6.15.20//NONSGML v1.0//EN
CALSCALE:GREGORIAN
METHOD:PUBLISH
X-WR-CALNAME:KVIA Events
X-ORIGINAL-URL:https://events.kvia.com
X-WR-CALDESC:Events for KVIA Events
REFRESH-INTERVAL;VALUE=DURATION:PT1H
X-Robots-Tag:noindex
X-PUBLISHED-TTL:PT1H
BEGIN:VTIMEZONE
TZID:America/Los_Angeles
BEGIN:DAYLIGHT
TZOFFSETFROM:-0800
TZOFFSETTO:-0700
TZNAME:PDT
DTSTART:20230312T100000
END:DAYLIGHT
BEGIN:STANDARD
TZOFFSETFROM:-0700
TZOFFSETTO:-0800
TZNAME:PST
DTSTART:20231105T090000
END:STANDARD
BEGIN:DAYLIGHT
TZOFFSETFROM:-0800
TZOFFSETTO:-0700
TZNAME:PDT
DTSTART:20240310T100000
END:DAYLIGHT
BEGIN:STANDARD
TZOFFSETFROM:-0700
TZOFFSETTO:-0800
TZNAME:PST
DTSTART:20241103T090000
END:STANDARD
BEGIN:DAYLIGHT
TZOFFSETFROM:-0800
TZOFFSETTO:-0700
TZNAME:PDT
DTSTART:20250309T100000
END:DAYLIGHT
BEGIN:STANDARD
TZOFFSETFROM:-0700
TZOFFSETTO:-0800
TZNAME:PST
DTSTART:20251102T090000
END:STANDARD
END:VTIMEZONE
BEGIN:VEVENT
DTSTART;VALUE=DATE:20240525
DTEND;VALUE=DATE:20240624
DTSTAMP:20260424T044451
CREATED:20240527T161214Z
LAST-MODIFIED:20240527T161214Z
UID:10003050-1716595200-1719187199@events.kvia.com
SUMMARY:Free Call to Artists: Celebrate Castner Range National Monument with a Community Art Show
DESCRIPTION:The International Museum of Art and The Frontera Land Alliance are partnering to celebrate the 1st anniversary of the Castner Range National Monument. We invite you to join the festivities by entering our free art show! \nCastner Range: From First People to Forever is dedicated to capturing the unique Biological\, Geological\, Historical & Cultural importance of Castner Range. There is no fee to participate and it is open to artists 10 years of age or older. The deadline to enter is June\, 23\, 2024. \nPlease visit us online at https://internationalmuseumofart.org/castner-range-from-the-first-peoples-to-forever/ to learn more about the show and enter today! \nCastner Range: From the First People to Forever will be on view from July 20-August 17\, 2024. \nWe can’t wait to see what our community creates!
URL:https://events.kvia.com/event/free-call-to-artists-celebrate-castner-range-national-monument-with-a-community-art-show/
LOCATION:International Museum of Art\, 1211 Montana Avenue\, El Paso\, TX\, 79902\, United States
CATEGORIES:Art and Exhibits,Community,Education
ATTACH;FMTTYPE=image/png:https://events.kvia.com/wp-content/uploads/2024/05/Call-to-artists-Castner-Range.png
ORGANIZER;CN="International Museum of Art":MAILTO:international.art.musuem@gmail.com
END:VEVENT
BEGIN:VEVENT
DTSTART;TZID=America/Los_Angeles:20240603T090000
DTEND;TZID=America/Los_Angeles:20240607T160000
DTSTAMP:20260424T044451
CREATED:20240502T192608Z
LAST-MODIFIED:20240502T192608Z
UID:10001825-1717405200-1717776000@events.kvia.com
SUMMARY:UTEP Youth Programs and Camps - Summer 2024 (June 3-June 7)
DESCRIPTION:UTEP Youth Programs and Camps has a variety of online and on-campus activities this summer to keep your kids engaged. Young campers can develop their skills\, learn and have fun in the many camps we offer. Our camps can help improve academic skills\, develop confidence and more. Sign your child up for our Summer 2024 youth programs and camps: they’ll be guaranteed a fun and unique learning experience! Camps start the week of June 3 and are for entering grades K-12. \nFor more information\, visit ppp.utep.edu/youthcourses or call 915-747-5142. To register\, visit https://pace.utep.edu/wconnect/quickpick.awp
URL:https://events.kvia.com/event/utep-youth-programs-and-camps-summer-2024-june-3-june-7/
LOCATION:UTEP Campus\, 500 W. University Ave.\, El Paso\, 79968
CATEGORIES:Education
ATTACH;FMTTYPE=image/jpeg:https://events.kvia.com/wp-content/uploads/2024/05/24-Sum-Camps-Week-1-scaled.jpg
ORGANIZER;CN="Professional and Public Programs at UTEP":MAILTO:p3youth@utep.edu
END:VEVENT
BEGIN:VEVENT
DTSTART;TZID=America/Los_Angeles:20240610T090000
DTEND;TZID=America/Los_Angeles:20240610T160000
DTSTAMP:20260424T044451
CREATED:20240503T170634Z
LAST-MODIFIED:20240503T170634Z
UID:10001827-1718010000-1718035200@events.kvia.com
SUMMARY:UTEP Youth Programs and Camps - Summer 2024 (June 10-June 14)
DESCRIPTION:UTEP Youth Programs and Camps has a variety of online and on-campus activities this summer to keep your kids engaged. Young campers can develop their skills\, learn and have fun in the many camps we offer. Our camps can help improve academic skills\, develop confidence and more. Sign your child up for our Summer 2024 youth programs and camps: they’ll be guaranteed a fun and unique learning experience! Camps start the week of June 3 and are for entering grades K-12. \nFor more information\, visit ppp.utep.edu/youthcourses or call 915-747-5142. To register\, visit https://pace.utep.edu/wconnect/quickpick.awp
URL:https://events.kvia.com/event/utep-youth-programs-and-camps-summer-2024-june-10-june-14/2024-06-10/
LOCATION:UTEP Campus\, 500 W. University Ave.\, El Paso\, 79968
CATEGORIES:Education
ATTACH;FMTTYPE=image/jpeg:https://events.kvia.com/wp-content/uploads/2024/05/24-Sum-Camps-Week-2-scaled.jpg
ORGANIZER;CN="Professional and Public Programs at UTEP":MAILTO:p3youth@utep.edu
END:VEVENT
BEGIN:VEVENT
DTSTART;TZID=America/Los_Angeles:20240610T090000
DTEND;TZID=America/Los_Angeles:20240621T120000
DTSTAMP:20260424T044451
CREATED:20240501T221019Z
LAST-MODIFIED:20240501T221019Z
UID:10001824-1718010000-1718971200@events.kvia.com
SUMMARY:Spanish Summer Camp for Kids 2024!
DESCRIPTION:Language Plus is happy to host this year’s Spanish Summer Camp for Kids! Children ages 5-12 are welcome to join to practice and develop their Spanish in a fun\, interactive environment. Our experienced teachers lead games\, art & crafts\, role plays & more to help children learn the Spanish language in a productive\, but entertaining way. Snacks will be provided. The camp will be the Weeks of June 10th and 17th\, Monday-Friday 9am-12pm. Kids can join one or both weeks. Afternoon sessions and additional dates will open based on demand. Call us for more information and to register!
URL:https://events.kvia.com/event/spanish-summer-camp-for-kids-2024/
LOCATION:Language Plus\, 1301 N Oregon St\, Suite 100\, El Paso\, 79902\, Mexico
CATEGORIES:Education
ATTACH;FMTTYPE=image/png:https://events.kvia.com/wp-content/uploads/2024/04/Kids-Summer-Camp-Flyer.png
ORGANIZER;CN="Language":MAILTO:info@languageplus.edu
END:VEVENT
BEGIN:VEVENT
DTSTART;TZID=America/Los_Angeles:20240610T110000
DTEND;TZID=America/Los_Angeles:20240610T133000
DTSTAMP:20260424T044451
CREATED:20240507T201018Z
LAST-MODIFIED:20240507T201018Z
UID:10002329-1718017200-1718026200@events.kvia.com
SUMMARY:Black Rocket Online STEAM Camps – Summer 2024 (June 10-14)
DESCRIPTION:UTEP Youth Programs and Camps in partnership with Black Rocket\, a national leader in tech-education\, offers a variety of virtual STEAM camps this summer to keep your kids engaged. Young campers can improve their academic skills\, learn about science\, technology\, engineering\, art and math all while having fun. Sign your child up for our weekly five-day online Black Rocket camps: they’ll be guaranteed a fun and unique learning experience! Camps are designed for ages 8-11 and 11-14. Weekly camps will take place from June 10 to August 23 and will be offered from 11 a.m.-1:30 p.m. and from 2:30-5 p.m. For more information\, visit ppp.utep.edu/youthcourses or call 915-747-5142.
URL:https://events.kvia.com/event/black-rocket-online-steam-camps-summer-2024-june-10-14/2024-06-10/
LOCATION:UTEP Campus\, 500 W. University Ave.\, El Paso\, 79968
CATEGORIES:Education
ATTACH;FMTTYPE=image/jpeg:https://events.kvia.com/wp-content/uploads/2024/05/24-Sum-Black-Rocket-Week-1-scaled.jpg
ORGANIZER;CN="Professional and Public Programs at UTEP":MAILTO:p3youth@utep.edu
END:VEVENT
BEGIN:VEVENT
DTSTART;TZID=America/Los_Angeles:20240617T090000
DTEND;TZID=America/Los_Angeles:20240617T160000
DTSTAMP:20260424T044451
CREATED:20240503T170731Z
LAST-MODIFIED:20240503T170731Z
UID:10001828-1718614800-1718640000@events.kvia.com
SUMMARY:UTEP Youth Programs and Camps - Summer 2024 (June 17-June 21) No class June 19
DESCRIPTION:UTEP Youth Programs and Camps has a variety of online and on-campus activities this summer to keep your kids engaged. Young campers can develop their skills\, learn and have fun in the many camps we offer. Our camps can help improve academic skills\, develop confidence and more. Sign your child up for our Summer 2024 youth programs and camps: they’ll be guaranteed a fun and unique learning experience! Camps start the week of June 3 and are for entering grades K-12. \nFor more information\, visit ppp.utep.edu/youthcourses or call 915-747-5142. To register\, visit https://pace.utep.edu/wconnect/quickpick.awp
URL:https://events.kvia.com/event/utep-youth-programs-and-camps-summer-2024-june-17-june-21-no-class-june-19/2024-06-17/
LOCATION:UTEP Campus\, 500 W. University Ave.\, El Paso\, 79968
CATEGORIES:Education
ATTACH;FMTTYPE=image/jpeg:https://events.kvia.com/wp-content/uploads/2024/05/24-Sum-Camps-Week-3-scaled.jpg
ORGANIZER;CN="Professional and Public Programs at UTEP":MAILTO:p3youth@utep.edu
END:VEVENT
BEGIN:VEVENT
DTSTART;TZID=America/Los_Angeles:20240617T110000
DTEND;TZID=America/Los_Angeles:20240617T133000
DTSTAMP:20260424T044451
CREATED:20240507T201027Z
LAST-MODIFIED:20240507T201027Z
UID:10002330-1718622000-1718631000@events.kvia.com
SUMMARY:Black Rocket Online STEAM Camps - Summer 2024 (June 17-21) No class June 19
DESCRIPTION:UTEP Youth Programs and Camps in partnership with Black Rocket\, a national leader in tech-education\, offers a variety of virtual STEAM camps this summer to keep your kids engaged. Young campers can improve their academic skills\, learn about science\, technology\, engineering\, art and math all while having fun. Sign your child up for our weekly five-day online Black Rocket camps: they’ll be guaranteed a fun and unique learning experience! Camps are designed for ages 8-11 and 11-14. Weekly camps will take place from June 10 to August 23 and will be offered from 11 a.m.-1:30 p.m. and from 2:30-5 p.m. For more information\, visit ppp.utep.edu/youthcourses or call 915-747-5142.
URL:https://events.kvia.com/event/black-rocket-online-steam-camps-summer-2024-june-17-21-no-class-june-19/2024-06-17/
LOCATION:UTEP Campus\, 500 W. University Ave.\, El Paso\, 79968
CATEGORIES:Community,Education
ATTACH;FMTTYPE=image/jpeg:https://events.kvia.com/wp-content/uploads/2024/05/24-Sum-Black-Rocket-Week-2-scaled.jpg
ORGANIZER;CN="Professional and Public Programs at UTEP":MAILTO:p3youth@utep.edu
END:VEVENT
BEGIN:VEVENT
DTSTART;TZID=America/Los_Angeles:20240624T090000
DTEND;TZID=America/Los_Angeles:20240624T160000
DTSTAMP:20260424T044451
CREATED:20240503T170713Z
LAST-MODIFIED:20240503T170713Z
UID:10002317-1719219600-1719244800@events.kvia.com
SUMMARY:UTEP Youth Programs and Camps - Summer 2024 (June 10-June 14)
DESCRIPTION:UTEP Youth Programs and Camps has a variety of online and on-campus activities this summer to keep your kids engaged. Young campers can develop their skills\, learn and have fun in the many camps we offer. Our camps can help improve academic skills\, develop confidence and more. Sign your child up for our Summer 2024 youth programs and camps: they’ll be guaranteed a fun and unique learning experience! Camps start the week of June 3 and are for entering grades K-12. \nFor more information\, visit ppp.utep.edu/youthcourses or call 915-747-5142. To register\, visit https://pace.utep.edu/wconnect/quickpick.awp
URL:https://events.kvia.com/event/utep-youth-programs-and-camps-summer-2024-june-10-june-14-2/2024-06-24/
LOCATION:UTEP Campus\, 500 W. University Ave.\, El Paso\, 79968
CATEGORIES:Education
ATTACH;FMTTYPE=image/jpeg:https://events.kvia.com/wp-content/uploads/2024/05/24-Sum-Camps-Week-4-scaled.jpg
ORGANIZER;CN="Professional and Public Programs at UTEP":MAILTO:p3youth@utep.edu
END:VEVENT
BEGIN:VEVENT
DTSTART;TZID=America/Los_Angeles:20240624T110000
DTEND;TZID=America/Los_Angeles:20240624T133000
DTSTAMP:20260424T044451
CREATED:20240507T201009Z
LAST-MODIFIED:20240507T201009Z
UID:10002331-1719226800-1719235800@events.kvia.com
SUMMARY:Black Rocket Online STEAM Camps - Summer 2024 (June 24-28)
DESCRIPTION:UTEP Youth Programs and Camps in partnership with Black Rocket\, a national leader in tech-education\, offers a variety of virtual STEAM camps this summer to keep your kids engaged. Young campers can improve their academic skills\, learn about science\, technology\, engineering\, art and math all while having fun. Sign your child up for our weekly five-day online Black Rocket camps: they’ll be guaranteed a fun and unique learning experience! Camps are designed for ages 8-11 and 11-14. Weekly camps will take place from June 10 to August 23 and will be offered from 11 a.m.-1:30 p.m. and from 2:30-5 p.m. For more information\, visit ppp.utep.edu/youthcourses or call 915-747-5142.
URL:https://events.kvia.com/event/black-rocket-online-steam-camps-summer-2024-june-24-28/2024-06-24/
LOCATION:UTEP Campus\, 500 W. University Ave.\, El Paso\, 79968
CATEGORIES:Community,Education
ATTACH;FMTTYPE=image/jpeg:https://events.kvia.com/wp-content/uploads/2024/05/24-Sum-Black-Rocket-Week-3-scaled.jpg
ORGANIZER;CN="Professional and Public Programs at UTEP":MAILTO:p3youth@utep.edu
END:VEVENT
BEGIN:VEVENT
DTSTART;TZID=America/Los_Angeles:20240629T110000
DTEND;TZID=America/Los_Angeles:20240629T123000
DTSTAMP:20260424T044451
CREATED:20240506T234015Z
LAST-MODIFIED:20240708T003103Z
UID:10002323-1719658800-1719664200@events.kvia.com
SUMMARY:Coffee Cups & Flying Saucers – The Mutual UFO Network
DESCRIPTION:Alamogordo’s MUFON chapter has a NEW meeting location for Coffee Cups & Flying Saucers in the Otero Artspace building on the corner of 12th & Indiana. All opinion’s are welcome without judgement regarding flying saucers\, UFO\, UAP\, local sightings\, Alamogordo aerial phenomenon history & unexplained experiences.  The discussion is led by MUFON’s New Mexico Assistant State Director who brings coffee. There is plenty of on street parking and our monthly meetings start at 11am and they are open to the public free of charge. The Mutual UFO Network presents a short topic from history and then welcomes open discussion with all like-minded individuals. The 2024 meetings dates are: May 18th\, June 29th\, July 20th\, August 17th\, September 21st\, October 26th- This is the Statewide Membership meeting the PowerPoint “APRO the Alamogordo Years 1954-1960” will be presented in an extended meeting\, November 16th and December 21st. All meetings start at 11am and end by 12:30 \, coffee and light refreshments are provided by the Alamogordo MUFON Chapter. \n 
URL:https://events.kvia.com/event/coffee-cups-flying-saucers-the-mutual-ufo-network/2024-06-29/
LOCATION:Otero Artspace\, 1118 Indiana AVE\, Alamogordo\, 88310
CATEGORIES:Art and Exhibits,Community,Education,Other
ATTACH;FMTTYPE=image/jpeg:https://events.kvia.com/wp-content/uploads/2024/05/CCup-Updated-OTEROArts.jpg
ORGANIZER;CN="Mutual UFO Network New Mexico":MAILTO:nm.mufon@gmail.com
END:VEVENT
END:VCALENDAR