BEGIN:VCALENDAR
VERSION:2.0
PRODID:-//KVIA Events - ECPv6.15.20//NONSGML v1.0//EN
CALSCALE:GREGORIAN
METHOD:PUBLISH
X-ORIGINAL-URL:https://events.kvia.com
X-WR-CALDESC:Events for KVIA Events
REFRESH-INTERVAL;VALUE=DURATION:PT1H
X-Robots-Tag:noindex
X-PUBLISHED-TTL:PT1H
BEGIN:VTIMEZONE
TZID:America/Los_Angeles
BEGIN:DAYLIGHT
TZOFFSETFROM:-0800
TZOFFSETTO:-0700
TZNAME:PDT
DTSTART:20230312T100000
END:DAYLIGHT
BEGIN:STANDARD
TZOFFSETFROM:-0700
TZOFFSETTO:-0800
TZNAME:PST
DTSTART:20231105T090000
END:STANDARD
BEGIN:DAYLIGHT
TZOFFSETFROM:-0800
TZOFFSETTO:-0700
TZNAME:PDT
DTSTART:20240310T100000
END:DAYLIGHT
BEGIN:STANDARD
TZOFFSETFROM:-0700
TZOFFSETTO:-0800
TZNAME:PST
DTSTART:20241103T090000
END:STANDARD
BEGIN:DAYLIGHT
TZOFFSETFROM:-0800
TZOFFSETTO:-0700
TZNAME:PDT
DTSTART:20250309T100000
END:DAYLIGHT
BEGIN:STANDARD
TZOFFSETFROM:-0700
TZOFFSETTO:-0800
TZNAME:PST
DTSTART:20251102T090000
END:STANDARD
END:VTIMEZONE
BEGIN:VEVENT
DTSTART;VALUE=DATE:20240504
DTEND;VALUE=DATE:20240526
DTSTAMP:20260424T142943
CREATED:20240415T173629Z
LAST-MODIFIED:20240415T173629Z
UID:10001820-1714780800-1716681599@events.kvia.com
SUMMARY:Nina C. Walker: Evolution
DESCRIPTION:The International Museum of Art is honored to host Evolution\, the work of local artist and trailside impressionist\, Nina C. Walker in her first solo show since 2018. This exhibit will feature views painted from her mountainside studio and more. \nEvolution will be on view from May 4 through May 25. Works are for sale by the artist. \nAll are invited to the opening reception on Saturday\, May 4\, from 1-4 pm. The exhibition and opening are free and open to the public.
URL:https://events.kvia.com/event/nina-c-walker-evolution/
LOCATION:International Museum of Art\, 1211 Montana Avenue\, El Paso\, TX\, 79902\, United States
CATEGORIES:Art and Exhibits,Community,Education
ATTACH;FMTTYPE=image/jpeg:https://events.kvia.com/wp-content/uploads/2024/04/IMG_20240306_105925-1.jpg
ORGANIZER;CN="International Museum of Art":MAILTO:international.art.musuem@gmail.com
END:VEVENT
BEGIN:VEVENT
DTSTART;TZID=America/Los_Angeles:20240504T130000
DTEND;TZID=America/Los_Angeles:20240504T160000
DTSTAMP:20260424T142943
CREATED:20240415T173633Z
LAST-MODIFIED:20240415T173633Z
UID:10001821-1714827600-1714838400@events.kvia.com
SUMMARY:Opening Reception- Nina C. Walker: Evolution
DESCRIPTION:The International Museum of Art is honored to host Evolution\, the work of local artist and trailside impressionist\, Nina C. Walker in her first solo show since 2018. This exhibit will feature views painted from her mountainside studio and more. \nEvolution will be on view from May 4 through May 25. Works are for sale by the artist.All are invited to the opening reception on Saturday\, May 4\, from 1-4 pm. The exhibition and opening are free and open to the public.
URL:https://events.kvia.com/event/opening-reception-nina-c-walker-evolution/
LOCATION:International Museum of Art\, 1211 Montana Avenue\, El Paso\, TX\, 79902\, United States
CATEGORIES:Art and Exhibits,Community,Education
ATTACH;FMTTYPE=image/jpeg:https://events.kvia.com/wp-content/uploads/2024/04/IMG_20240306_105921.jpg
ORGANIZER;CN="International Museum of Art":MAILTO:international.art.musuem@gmail.com
END:VEVENT
BEGIN:VEVENT
DTSTART;TZID=America/Los_Angeles:20240505T140000
DTEND;TZID=America/Los_Angeles:20240505T160000
DTSTAMP:20260424T142943
CREATED:20240415T173641Z
LAST-MODIFIED:20240415T173641Z
UID:10001822-1714917600-1714924800@events.kvia.com
SUMMARY:El Paso Opera: Tour to Sunday
DESCRIPTION:Learn more about French Impressionism with the El Paso Opera and the International Museum of Art! All are welcome on May 5 from 2-4 pm for a free lecture on Impressionism\, followed by a performance by the EPO from their upcoming production\, “Sunday in the Park with George.” \nThis event is free and open to the public. Seating is limited and available on a first-come\, first-served basis.
URL:https://events.kvia.com/event/el-paso-opera-tour-to-sunday/
LOCATION:International Museum of Art\, 1211 Montana Avenue\, El Paso\, TX\, 79902\, United States
CATEGORIES:Art and Exhibits,Education,Music
ATTACH;FMTTYPE=image/jpeg:https://events.kvia.com/wp-content/uploads/2024/04/Tour-to-Sunday-2024.jpg
ORGANIZER;CN="International Museum of Art":MAILTO:international.art.musuem@gmail.com
END:VEVENT
BEGIN:VEVENT
DTSTART;TZID=America/Los_Angeles:20240511T140000
DTEND;TZID=America/Los_Angeles:20240511T150000
DTSTAMP:20260424T142943
CREATED:20240502T221810Z
LAST-MODIFIED:20240502T221810Z
UID:10001826-1715436000-1715439600@events.kvia.com
SUMMARY:Free Cello Concert: El Violonchelo en Latinoamérica y Espana
DESCRIPTION:Spend a relaxing day at the International Museum of Art with a free cello concert. On Saturday\, May 11 at 2 pm\, UTEP music students will explore the sound of Latin America and Spain. All are welcome at the performance. Seating is available\, but limited to a first-come\, first-served basis. \nThe IMoA is located at 1211 Montana Ave\, El Paso\, TX 79902. There is a parking lot and ramp available on Rio Grande and Brown Street.
URL:https://events.kvia.com/event/free-cello-concert-el-violonchelo-en-latinoamerica-y-espana/
LOCATION:International Museum of Art\, 1211 Montana Avenue\, El Paso\, TX\, 79902\, United States
CATEGORIES:Art and Exhibits,Education,Music
ATTACH;FMTTYPE=image/png:https://events.kvia.com/wp-content/uploads/2024/05/Poster-1.png
ORGANIZER;CN="International Museum of Art":MAILTO:international.art.musuem@gmail.com
END:VEVENT
BEGIN:VEVENT
DTSTART;TZID=America/Los_Angeles:20240518T110000
DTEND;TZID=America/Los_Angeles:20240518T120000
DTSTAMP:20260424T142943
CREATED:20240418T152516Z
LAST-MODIFIED:20240418T152516Z
UID:10001823-1716030000-1716033600@events.kvia.com
SUMMARY:Coffee Cups & Flying Saucers
DESCRIPTION:The New Mexico Mutual UFO Network Alamogordo Chapter now has a new location for our monthly chapter meetings. We have found a larger location with plenty of on street parking and room for everyone. We now host Coffee Cups & Flying Saucers at the Otero Artspace building in the heart of Alamogordo at 1118 Indiana ave. The historic charm\, beauty and ambiance of this building make for inspiring thought-provoking discussions regarding aerial phenomena. MUFON invites you to join us on the Third Saturday of the month at 11AM on the corner of 12th & Indiana for Coffee Cups & Flying Saucers-  we will bring the coffee! \n2024 upcoming meetings on Saturday at 11AM: May 18\, June 29th\, July 20th\, August 17th\, Sept. 21st\, Oct 26th (11:30 start State Chapter meeting 2hrs) Nov. 16th & Dec. 21st. Otero Artspace is located at 1118 Indiana ave.
URL:https://events.kvia.com/event/coffee-cups-flying-saucers/
LOCATION:Otero Artspace\, 1118 Indiana AVE\, Alamogordo\, 88310
CATEGORIES:Art and Exhibits,Community,Education
ATTACH;FMTTYPE=image/jpeg:https://events.kvia.com/wp-content/uploads/2024/04/CCup-Updated-OTEROArts.jpg
END:VEVENT
BEGIN:VEVENT
DTSTART;TZID=America/Los_Angeles:20240518T140000
DTEND;TZID=America/Los_Angeles:20240518T140000
DTSTAMP:20260424T142943
CREATED:20240507T203906Z
LAST-MODIFIED:20240507T203906Z
UID:10001848-1716040800-1716040800@events.kvia.com
SUMMARY:Hidden History: Women And Children At Historic Mining Sites In The Tularosa Basin
DESCRIPTION:John Taylor-Montoya PhD\, Executive Director for the Office of Archaeological Studies\, New Mexico Department of Cultural Affairs. \nWhile working in southern New Mexico Dr. Taylor-Montoya documented hundreds of historic mining sites dating from the 19th and early 20th centuries. The received wisdom was that the vast majority of the mines were “commuter” sites. Miners lived in nearby communities\, traveled to the mines\, camped while working\, and then returned home. It was not uncommon to find non-industrial archaeological artifacts at these sites not typically expected of a hard rock miner that pointed to other occupants of these sites. This talk will be a brief tour of mining sites in southern New Mexico\, the evidence\, and the implications for the hard rock miner’s family life on the range. \nDr. John Taylor-Montoya is a native New Mexican who grew up visiting historic and archaeological sites in the Southwest. Dr. Taylor-Montoya received a Bachelor of Science degree in Anthropology from the University of New Mexico in 2000\, earned a Master of Arts in Anthropology from the University of Oklahoma in 2003\, and earned a Doctorate degree in Anthropology from Southern Methodist University in 2011. His dissertation was a quantitative analysis of changes in prehistoric stone tool technology over time in which he examined over 2\,000 artifacts from hundreds of sites throughout the Plains and Southwest U.S. His research was funded by a National Science Foundation grant. He began practicing archaeology in New Mexico in 1999 as a crew member on projects in the central and northern Rio Grande area. His career in public archaeology began in 2001 as a Staff Archaeologist in the Oklahoma State Archaeologist office which launched his career in Cultural Resource Management. Before joining the Office of Archaeological Studies\, a division of the New Mexico Department of Cultural Affairs\, he served as a Senior Project Manager and Director for regional offices of private\, nationwide Cultural Resource Management firms for more than a decade. Dr. Taylor-Montoya has presented his research at international conferences\, published articles in scholarly journals\, and authored over 100 technical reports. He currently lives in Albuquerque with his wife\, two children\, their poodle\, four fish\, and a crested gecko.
URL:https://events.kvia.com/event/hidden-history-women-and-children-at-historic-mining-sites-in-the-tularosa-basin/
LOCATION:El Paso Museum of Archaeology\, 4301 Woodrow Bean Transmountain Dr\, El Paso\, 79924
CATEGORIES:Education
ATTACH;FMTTYPE=image/png:https://events.kvia.com/wp-content/uploads/2024/05/Archaeology-Lecture.png
END:VEVENT
BEGIN:VEVENT
DTSTART;VALUE=DATE:20240525
DTEND;VALUE=DATE:20240624
DTSTAMP:20260424T142943
CREATED:20240527T161214Z
LAST-MODIFIED:20240527T161214Z
UID:10003050-1716595200-1719187199@events.kvia.com
SUMMARY:Free Call to Artists: Celebrate Castner Range National Monument with a Community Art Show
DESCRIPTION:The International Museum of Art and The Frontera Land Alliance are partnering to celebrate the 1st anniversary of the Castner Range National Monument. We invite you to join the festivities by entering our free art show! \nCastner Range: From First People to Forever is dedicated to capturing the unique Biological\, Geological\, Historical & Cultural importance of Castner Range. There is no fee to participate and it is open to artists 10 years of age or older. The deadline to enter is June\, 23\, 2024. \nPlease visit us online at https://internationalmuseumofart.org/castner-range-from-the-first-peoples-to-forever/ to learn more about the show and enter today! \nCastner Range: From the First People to Forever will be on view from July 20-August 17\, 2024. \nWe can’t wait to see what our community creates!
URL:https://events.kvia.com/event/free-call-to-artists-celebrate-castner-range-national-monument-with-a-community-art-show/
LOCATION:International Museum of Art\, 1211 Montana Avenue\, El Paso\, TX\, 79902\, United States
CATEGORIES:Art and Exhibits,Community,Education
ATTACH;FMTTYPE=image/png:https://events.kvia.com/wp-content/uploads/2024/05/Call-to-artists-Castner-Range.png
ORGANIZER;CN="International Museum of Art":MAILTO:international.art.musuem@gmail.com
END:VEVENT
END:VCALENDAR