BEGIN:VCALENDAR
VERSION:2.0
PRODID:-//KVIA Events - ECPv6.15.20//NONSGML v1.0//EN
CALSCALE:GREGORIAN
METHOD:PUBLISH
X-ORIGINAL-URL:https://events.kvia.com
X-WR-CALDESC:Events for KVIA Events
REFRESH-INTERVAL;VALUE=DURATION:PT1H
X-Robots-Tag:noindex
X-PUBLISHED-TTL:PT1H
BEGIN:VTIMEZONE
TZID:America/Los_Angeles
BEGIN:DAYLIGHT
TZOFFSETFROM:-0800
TZOFFSETTO:-0700
TZNAME:PDT
DTSTART:20240310T100000
END:DAYLIGHT
BEGIN:STANDARD
TZOFFSETFROM:-0700
TZOFFSETTO:-0800
TZNAME:PST
DTSTART:20241103T090000
END:STANDARD
BEGIN:DAYLIGHT
TZOFFSETFROM:-0800
TZOFFSETTO:-0700
TZNAME:PDT
DTSTART:20250309T100000
END:DAYLIGHT
BEGIN:STANDARD
TZOFFSETFROM:-0700
TZOFFSETTO:-0800
TZNAME:PST
DTSTART:20251102T090000
END:STANDARD
BEGIN:DAYLIGHT
TZOFFSETFROM:-0800
TZOFFSETTO:-0700
TZNAME:PDT
DTSTART:20260308T100000
END:DAYLIGHT
BEGIN:STANDARD
TZOFFSETFROM:-0700
TZOFFSETTO:-0800
TZNAME:PST
DTSTART:20261101T090000
END:STANDARD
END:VTIMEZONE
BEGIN:VEVENT
DTSTART;TZID=America/Los_Angeles:20250726T120000
DTEND;TZID=America/Los_Angeles:20250831T170000
DTSTAMP:20260424T045123
CREATED:20250527T160056Z
LAST-MODIFIED:20250627T212127Z
UID:10003235-1753531200-1756659600@events.kvia.com
SUMMARY:Joy Abounds: Member Showcase 2025
DESCRIPTION:Celebrate joy and happiness during The International Museum of Art’s 3rd annual Member Showcase. \n\n\n\nAs “The People’s Museum\,” we are supported by our donors\, community partners\, and members like you. We began hosting our Member Showcase to highlight the creativity and talents of our supporters. This year’s show is titled Joy Abounds and is about celebrating the joy that we have in our lives and community. \nWe want to showcase the people\, places\, and moments that bring us happiness. Artists were asked to submit work that exemplifies their definition of joy or explore what happiness means to them. Joy Abounds will be on view from July 26 through August 31\, 2025. All are welcome to the opening reception on Saturday\, July 26 from 2:00-4:00 pm. \nMembers provide critical support for our mission of expanding access to the arts while receiving benefits such as this annual showcase. To become a member today\, please visit us at: https://internationalmuseumofart.org/become-a-member-today/. \nThe International Museum of Art is dedicated to making art accessible to all\, offering free admission\, exhibitions of local artists\, and a rich collection of regional and international artifacts. Thanks to the generous support of our members and donors\, we continue to foster cultural understanding and promoting the visual arts in El Paso.
URL:https://events.kvia.com/event/joy-abounds-member-showcase-2025/2025-07-26/
LOCATION:International Museum of Art\, 1211 Montana Avenue\, El Paso\, TX\, 79902\, United States
CATEGORIES:Art and Exhibits
ATTACH;FMTTYPE=image/png:https://events.kvia.com/wp-content/uploads/2025/05/Joy-Abounds-Member-Showcase-Flyer-3.png
ORGANIZER;CN="International Museum of Art":MAILTO:international.art.musuem@gmail.com
END:VEVENT
BEGIN:VEVENT
DTSTART;TZID=America/Los_Angeles:20250727T120000
DTEND;TZID=America/Los_Angeles:20250901T170000
DTSTAMP:20260424T045123
CREATED:20250527T160056Z
LAST-MODIFIED:20250627T212127Z
UID:10005444-1753617600-1756746000@events.kvia.com
SUMMARY:Joy Abounds: Member Showcase 2025
DESCRIPTION:Celebrate joy and happiness during The International Museum of Art’s 3rd annual Member Showcase. \n\n\n\nAs “The People’s Museum\,” we are supported by our donors\, community partners\, and members like you. We began hosting our Member Showcase to highlight the creativity and talents of our supporters. This year’s show is titled Joy Abounds and is about celebrating the joy that we have in our lives and community. \nWe want to showcase the people\, places\, and moments that bring us happiness. Artists were asked to submit work that exemplifies their definition of joy or explore what happiness means to them. Joy Abounds will be on view from July 26 through August 31\, 2025. All are welcome to the opening reception on Saturday\, July 26 from 2:00-4:00 pm. \nMembers provide critical support for our mission of expanding access to the arts while receiving benefits such as this annual showcase. To become a member today\, please visit us at: https://internationalmuseumofart.org/become-a-member-today/. \nThe International Museum of Art is dedicated to making art accessible to all\, offering free admission\, exhibitions of local artists\, and a rich collection of regional and international artifacts. Thanks to the generous support of our members and donors\, we continue to foster cultural understanding and promoting the visual arts in El Paso.
URL:https://events.kvia.com/event/joy-abounds-member-showcase-2025/2025-07-27/
LOCATION:International Museum of Art\, 1211 Montana Avenue\, El Paso\, TX\, 79902\, United States
CATEGORIES:Art and Exhibits
ATTACH;FMTTYPE=image/png:https://events.kvia.com/wp-content/uploads/2025/05/Joy-Abounds-Member-Showcase-Flyer-3.png
ORGANIZER;CN="International Museum of Art":MAILTO:international.art.musuem@gmail.com
END:VEVENT
BEGIN:VEVENT
DTSTART;TZID=America/Los_Angeles:20250731T120000
DTEND;TZID=America/Los_Angeles:20250905T170000
DTSTAMP:20260424T045123
CREATED:20250527T160056Z
LAST-MODIFIED:20250627T212127Z
UID:10005445-1753963200-1757091600@events.kvia.com
SUMMARY:Joy Abounds: Member Showcase 2025
DESCRIPTION:Celebrate joy and happiness during The International Museum of Art’s 3rd annual Member Showcase. \n\n\n\nAs “The People’s Museum\,” we are supported by our donors\, community partners\, and members like you. We began hosting our Member Showcase to highlight the creativity and talents of our supporters. This year’s show is titled Joy Abounds and is about celebrating the joy that we have in our lives and community. \nWe want to showcase the people\, places\, and moments that bring us happiness. Artists were asked to submit work that exemplifies their definition of joy or explore what happiness means to them. Joy Abounds will be on view from July 26 through August 31\, 2025. All are welcome to the opening reception on Saturday\, July 26 from 2:00-4:00 pm. \nMembers provide critical support for our mission of expanding access to the arts while receiving benefits such as this annual showcase. To become a member today\, please visit us at: https://internationalmuseumofart.org/become-a-member-today/. \nThe International Museum of Art is dedicated to making art accessible to all\, offering free admission\, exhibitions of local artists\, and a rich collection of regional and international artifacts. Thanks to the generous support of our members and donors\, we continue to foster cultural understanding and promoting the visual arts in El Paso.
URL:https://events.kvia.com/event/joy-abounds-member-showcase-2025/2025-07-31/
LOCATION:International Museum of Art\, 1211 Montana Avenue\, El Paso\, TX\, 79902\, United States
CATEGORIES:Art and Exhibits
ATTACH;FMTTYPE=image/png:https://events.kvia.com/wp-content/uploads/2025/05/Joy-Abounds-Member-Showcase-Flyer-3.png
ORGANIZER;CN="International Museum of Art":MAILTO:international.art.musuem@gmail.com
END:VEVENT
BEGIN:VEVENT
DTSTART;TZID=America/Los_Angeles:20250801T120000
DTEND;TZID=America/Los_Angeles:20250906T170000
DTSTAMP:20260424T045123
CREATED:20250527T160056Z
LAST-MODIFIED:20250627T212127Z
UID:10005446-1754049600-1757178000@events.kvia.com
SUMMARY:Joy Abounds: Member Showcase 2025
DESCRIPTION:Celebrate joy and happiness during The International Museum of Art’s 3rd annual Member Showcase. \n\n\n\nAs “The People’s Museum\,” we are supported by our donors\, community partners\, and members like you. We began hosting our Member Showcase to highlight the creativity and talents of our supporters. This year’s show is titled Joy Abounds and is about celebrating the joy that we have in our lives and community. \nWe want to showcase the people\, places\, and moments that bring us happiness. Artists were asked to submit work that exemplifies their definition of joy or explore what happiness means to them. Joy Abounds will be on view from July 26 through August 31\, 2025. All are welcome to the opening reception on Saturday\, July 26 from 2:00-4:00 pm. \nMembers provide critical support for our mission of expanding access to the arts while receiving benefits such as this annual showcase. To become a member today\, please visit us at: https://internationalmuseumofart.org/become-a-member-today/. \nThe International Museum of Art is dedicated to making art accessible to all\, offering free admission\, exhibitions of local artists\, and a rich collection of regional and international artifacts. Thanks to the generous support of our members and donors\, we continue to foster cultural understanding and promoting the visual arts in El Paso.
URL:https://events.kvia.com/event/joy-abounds-member-showcase-2025/2025-08-01/
LOCATION:International Museum of Art\, 1211 Montana Avenue\, El Paso\, TX\, 79902\, United States
CATEGORIES:Art and Exhibits
ATTACH;FMTTYPE=image/png:https://events.kvia.com/wp-content/uploads/2025/05/Joy-Abounds-Member-Showcase-Flyer-3.png
ORGANIZER;CN="International Museum of Art":MAILTO:international.art.musuem@gmail.com
END:VEVENT
BEGIN:VEVENT
DTSTART;TZID=America/Los_Angeles:20250802T063000
DTEND;TZID=America/Los_Angeles:20250802T073000
DTSTAMP:20260424T045123
CREATED:20240507T211109Z
LAST-MODIFIED:20240507T212452Z
UID:10002870-1754116200-1754119800@events.kvia.com
SUMMARY:Aqua Strength
DESCRIPTION:Join Liveactive EP in their free group fitness classes (City-wide movement to promote better health and wellness by encouraging physical activity\, improved nutrition\, and strong mental health.) Instructor: Scott Smith (SI Fitness)
URL:https://events.kvia.com/event/aqua-strength/2025-08-02/
LOCATION:Marty Robbins Recreation Center\, 11620 Vista Del Sol Dr\, El Paso\, 79936
CATEGORIES:Health and Wellness
ATTACH;FMTTYPE=image/jpeg:https://events.kvia.com/wp-content/uploads/2024/05/MGN_1280x720_20620P00-LCUJF.jpg
END:VEVENT
BEGIN:VEVENT
DTSTART;TZID=America/Los_Angeles:20250802T090000
DTEND;TZID=America/Los_Angeles:20250802T100000
DTSTAMP:20260424T045123
CREATED:20240507T211327Z
LAST-MODIFIED:20240507T212332Z
UID:10002965-1754125200-1754128800@events.kvia.com
SUMMARY:Body Strength & Fitness Class
DESCRIPTION:Join Liveactive EP in their free group fitness classes (City-wide movement to promote better health and wellness by encouraging physical activity\, improved nutrition\, and strong mental health.)
URL:https://events.kvia.com/event/body-strength-fitness-class/2025-08-02/
LOCATION:Sylvia A. Carreon Community Center\, 709 Lomita Dr\, El Paso\, 79907
CATEGORIES:Health and Wellness
ATTACH;FMTTYPE=image/jpeg:https://events.kvia.com/wp-content/uploads/2024/05/MGN_1280x720_20928P00-QBVCK.jpg
END:VEVENT
BEGIN:VEVENT
DTSTART;TZID=America/Los_Angeles:20250802T120000
DTEND;TZID=America/Los_Angeles:20250907T170000
DTSTAMP:20260424T045123
CREATED:20250527T160056Z
LAST-MODIFIED:20250627T212127Z
UID:10005447-1754136000-1757264400@events.kvia.com
SUMMARY:Joy Abounds: Member Showcase 2025
DESCRIPTION:Celebrate joy and happiness during The International Museum of Art’s 3rd annual Member Showcase. \n\n\n\nAs “The People’s Museum\,” we are supported by our donors\, community partners\, and members like you. We began hosting our Member Showcase to highlight the creativity and talents of our supporters. This year’s show is titled Joy Abounds and is about celebrating the joy that we have in our lives and community. \nWe want to showcase the people\, places\, and moments that bring us happiness. Artists were asked to submit work that exemplifies their definition of joy or explore what happiness means to them. Joy Abounds will be on view from July 26 through August 31\, 2025. All are welcome to the opening reception on Saturday\, July 26 from 2:00-4:00 pm. \nMembers provide critical support for our mission of expanding access to the arts while receiving benefits such as this annual showcase. To become a member today\, please visit us at: https://internationalmuseumofart.org/become-a-member-today/. \nThe International Museum of Art is dedicated to making art accessible to all\, offering free admission\, exhibitions of local artists\, and a rich collection of regional and international artifacts. Thanks to the generous support of our members and donors\, we continue to foster cultural understanding and promoting the visual arts in El Paso.
URL:https://events.kvia.com/event/joy-abounds-member-showcase-2025/2025-08-02/
LOCATION:International Museum of Art\, 1211 Montana Avenue\, El Paso\, TX\, 79902\, United States
CATEGORIES:Art and Exhibits
ATTACH;FMTTYPE=image/png:https://events.kvia.com/wp-content/uploads/2025/05/Joy-Abounds-Member-Showcase-Flyer-3.png
ORGANIZER;CN="International Museum of Art":MAILTO:international.art.musuem@gmail.com
END:VEVENT
END:VCALENDAR