BEGIN:VCALENDAR
VERSION:2.0
PRODID:-//KVIA Events - ECPv6.15.20//NONSGML v1.0//EN
CALSCALE:GREGORIAN
METHOD:PUBLISH
X-WR-CALNAME:KVIA Events
X-ORIGINAL-URL:https://events.kvia.com
X-WR-CALDESC:Events for KVIA Events
REFRESH-INTERVAL;VALUE=DURATION:PT1H
X-Robots-Tag:noindex
X-PUBLISHED-TTL:PT1H
BEGIN:VTIMEZONE
TZID:America/Los_Angeles
BEGIN:DAYLIGHT
TZOFFSETFROM:-0800
TZOFFSETTO:-0700
TZNAME:PDT
DTSTART:20240310T100000
END:DAYLIGHT
BEGIN:STANDARD
TZOFFSETFROM:-0700
TZOFFSETTO:-0800
TZNAME:PST
DTSTART:20241103T090000
END:STANDARD
BEGIN:DAYLIGHT
TZOFFSETFROM:-0800
TZOFFSETTO:-0700
TZNAME:PDT
DTSTART:20250309T100000
END:DAYLIGHT
BEGIN:STANDARD
TZOFFSETFROM:-0700
TZOFFSETTO:-0800
TZNAME:PST
DTSTART:20251102T090000
END:STANDARD
BEGIN:DAYLIGHT
TZOFFSETFROM:-0800
TZOFFSETTO:-0700
TZNAME:PDT
DTSTART:20260308T100000
END:DAYLIGHT
BEGIN:STANDARD
TZOFFSETFROM:-0700
TZOFFSETTO:-0800
TZNAME:PST
DTSTART:20261101T090000
END:STANDARD
END:VTIMEZONE
BEGIN:VEVENT
DTSTART;VALUE=DATE:20250525
DTEND;VALUE=DATE:20250616
DTSTAMP:20260422T150713
CREATED:20250527T155937Z
LAST-MODIFIED:20250607T233216Z
UID:10003234-1748131200-1750031999@events.kvia.com
SUMMARY:Call to Artists! Joy Abounds: Member Showcase 2025
DESCRIPTION:The International Museum of Art is proud to announce the call to artists for our 3rd annual Member Showcase. \nAs “The People’s Museum\,” we are supported by our donors\, community partners\, and members like you. We began hosting our Member Showcase to highlight the creativity and talents of our supporters. This year’s show is titled Joy Abounds and is about celebrating the joy that we have in our lives and community. \nWe want to showcase the people\, places\, and moments that bring us happiness. Work that exemplifies your definition of joy or explores what happiness means to you is encouraged. Joy Abounds is open to work in all mediums. \nMembers at the Artist Level and above are eligible for free entry in the showcase. The call to artists is open until June 15. Entries can be submitted in person\, via mail or digitally on Google Forms. Visit us at https://internationalmuseumofart.org/joy-abounds-member-showcase-2025/ prospectus and enter today! \nTo become a member and participate in the show\, please visit us at: https://internationalmuseumofart.org/become-a-member-today/. Members provide critical support for our mission of expanding access to the arts while receiving benefits such as this annual showcase. \nThe International Museum of Art is dedicated to making art accessible to all\, offering free admission\, exhibitions of local artists\, and a rich collection of regional and international artifacts. Thanks to the generous support of our members and donors\, we continue to foster cultural understanding and promoting the visual arts in El Paso.
URL:https://events.kvia.com/event/call-to-artists-joy-abounds-member-showcase-2025/
LOCATION:International Museum of Art\, 1211 Montana Avenue\, El Paso\, TX\, 79902\, United States
CATEGORIES:Art and Exhibits
ATTACH;FMTTYPE=image/png:https://events.kvia.com/wp-content/uploads/2025/05/Joy-Abounds-Member-Showcase-Flyer-1-1.png
ORGANIZER;CN="International Museum of Art":MAILTO:international.art.musuem@gmail.com
END:VEVENT
BEGIN:VEVENT
DTSTART;VALUE=DATE:20250525
DTEND;VALUE=DATE:20250707
DTSTAMP:20260422T150713
CREATED:20250527T160129Z
LAST-MODIFIED:20250527T160129Z
UID:10003237-1748131200-1751846399@events.kvia.com
SUMMARY:El Paso del Norte Proud: Open Call to Artists
DESCRIPTION:This summer the Museum will be hosting El Paso del Norte Proud\, a community showcase celebrating the culture\, people\, places and landscapes that make life in our region so unique. \nEl Paso del Norte Proud is open to all artists ages 12 and up who have work that celebrates life in the El Paseo del Norte community in all mediums. Artists are invited to enter work that showcases their love for the region. Work that highlights the people and places that have shaped our culture is encouraged. Art that explores the natural beauty of the region or its history is also welcome. Entries can be submitted in person\, via mail or digitally on Google Forms. Please click here to read the prospectus and enter today! https://internationalmuseumofart.org/life-in-the-desert-community-showcase/ \nEl Paso del Norte Proud has an entry fee of $30.00 and $15.00 for Museum Members at the Artist level or higher. Current members are encouraged to upgrade their membership to take advantage of the discount. The entry fee supports our mission of making art accessible for all. Click here to become a member today! https://internationalmuseumofart.org/become-a-member-today/. \nThe International Museum of Art is dedicated to making art accessible to all\, offering free admission\, exhibitions of local artists\, and a rich collection of regional and international artifacts. Thanks to the generous support of our members and donors\, we continue to foster cultural understanding and promoting the visual arts in El Paso.
URL:https://events.kvia.com/event/el-paso-del-norte-proud-open-call-to-artists/
LOCATION:International Museum of Art\, 1211 Montana Avenue\, El Paso\, TX\, 79902\, United States
CATEGORIES:Art and Exhibits
ATTACH;FMTTYPE=image/png:https://events.kvia.com/wp-content/uploads/2025/05/El-Paso-Del-Norte-Proud.png
ORGANIZER;CN="International Museum of Art":MAILTO:international.art.musuem@gmail.com
END:VEVENT
BEGIN:VEVENT
DTSTART;TZID=America/Los_Angeles:20250609T080000
DTEND;TZID=America/Los_Angeles:20250613T160000
DTSTAMP:20260422T150713
CREATED:20250416T220700Z
LAST-MODIFIED:20250416T220700Z
UID:10003195-1749456000-1749830400@events.kvia.com
SUMMARY:UTEP Youth Programs and Camps - Summer 2025 (June 9-June 13)
DESCRIPTION:UTEP Youth Programs and Camps has a variety of online and on-campus activities this summer to keep your kids engaged. Young campers can develop their skills\, learn and have fun in the many camps we offer. Our camps can help improve academic skills\, develop confidence and more. Sign your child up for our Summer 2025 youth programs and camps: they’ll be guaranteed a fun and unique learning experience! Weekly camps start the week of June 2 and end on August 2. Camps are for entering grades K-12. \nFor more information\, visit ppp.utep.edu/youthcourses or call 915-747-5142.
URL:https://events.kvia.com/event/utep-youth-programs-and-camps-summer-2025-june-9-june-13/
LOCATION:UTEP Campus\, 500 W. University Ave.\, El Paso\, 79968
CATEGORIES:Community,Education
ATTACH;FMTTYPE=image/jpeg:https://events.kvia.com/wp-content/uploads/2025/04/25-summer-youth-programs-and-camps-week-2.jpg
ORGANIZER;CN="Professional and Public Programs at UTEP":MAILTO:p3youth@utep.edu
END:VEVENT
BEGIN:VEVENT
DTSTART;TZID=America/Los_Angeles:20250609T110000
DTEND;TZID=America/Los_Angeles:20250613T170000
DTSTAMP:20260422T150713
CREATED:20250423T220335Z
LAST-MODIFIED:20250423T220335Z
UID:10003220-1749466800-1749834000@events.kvia.com
SUMMARY:Black Rocket Online STEAM Camps – Summer 2025 (June 9-13)
DESCRIPTION:UTEP Youth Programs and Camps in partnership with Black Rocket\, a national leader in tech-education\, offers a variety of virtual STEAM camps this summer to keep your kids engaged. Young campers can improve their academic skills\, learn about science\, technology\, engineering\, art and math all while having fun. Sign your child up for our weekly five-day online Black Rocket camps: they’ll be guaranteed a fun and unique learning experience! Camps are designed for ages 8-11 and 11-14. Weekly camps will take place from June 9 to August 22 and will be offered from 11 a.m.-1:30 p.m. and from 2:30-5 p.m. For more information\, visit ppp.utep.edu/youthcourses or call 915-747-5142.
URL:https://events.kvia.com/event/black-rocket-online-steam-camps-summer-2025-june-9-13-2/
LOCATION:UTEP Campus\, 500 W. University Ave.\, El Paso\, 79968
CATEGORIES:Community,Education
ATTACH;FMTTYPE=image/jpeg:https://events.kvia.com/wp-content/uploads/2025/04/25-summer-youth-st-patricks-courses-copy-1.jpg
ORGANIZER;CN="Professional and Public Programs at UTEP":MAILTO:p3youth@utep.edu
END:VEVENT
BEGIN:VEVENT
DTSTART;TZID=America/Los_Angeles:20250609T180000
DTEND;TZID=America/Los_Angeles:20250609T190000
DTSTAMP:20260422T150713
CREATED:20240507T210046Z
LAST-MODIFIED:20240507T212723Z
UID:10002541-1749492000-1749495600@events.kvia.com
SUMMARY:Latin Cardio Dance
DESCRIPTION:Join Liveactive EP in their free group fitness classes (City-wide movement to promote better health and wellness by encouraging physical activity\, improved nutrition\, and strong mental health.) Instructor: Lizbeth Romero
URL:https://events.kvia.com/event/latin-cardio-dance/2025-06-09/
LOCATION:Chamizal Recreation Center and Library\, 2119 Cypress Ave\, El Paso\, 79905
CATEGORIES:Health and Wellness
ATTACH;FMTTYPE=image/jpeg:https://events.kvia.com/wp-content/uploads/2024/05/MGN_1280x720_10922P00-GKHCE.jpg
END:VEVENT
BEGIN:VEVENT
DTSTART;TZID=America/Los_Angeles:20250609T180000
DTEND;TZID=America/Los_Angeles:20250609T190000
DTSTAMP:20260422T150713
CREATED:20240507T210651Z
LAST-MODIFIED:20240507T212645Z
UID:10002730-1749492000-1749495600@events.kvia.com
SUMMARY:Zumba (Be Well El Paso)
DESCRIPTION:Join Liveactive EP in their free group fitness classes (City-wide movement to promote better health and wellness by encouraging physical activity\, improved nutrition\, and strong mental health.) Instructor: Suzi Adams
URL:https://events.kvia.com/event/zumba-be-well-el-paso/2025-06-09/
LOCATION:Gary Del Palacio Recreation Center\, 3001 Parkwood St\, El Paso\, 79925
CATEGORIES:Health and Wellness
ATTACH;FMTTYPE=image/jpeg:https://events.kvia.com/wp-content/uploads/2024/05/MGN_1280x720_10503B00-IOQRU.jpg
END:VEVENT
END:VCALENDAR