BEGIN:VCALENDAR
VERSION:2.0
PRODID:-//KVIA Events - ECPv6.15.20//NONSGML v1.0//EN
CALSCALE:GREGORIAN
METHOD:PUBLISH
X-ORIGINAL-URL:https://events.kvia.com
X-WR-CALDESC:Events for KVIA Events
REFRESH-INTERVAL;VALUE=DURATION:PT1H
X-Robots-Tag:noindex
X-PUBLISHED-TTL:PT1H
BEGIN:VTIMEZONE
TZID:America/Los_Angeles
BEGIN:DAYLIGHT
TZOFFSETFROM:-0800
TZOFFSETTO:-0700
TZNAME:PDT
DTSTART:20240310T100000
END:DAYLIGHT
BEGIN:STANDARD
TZOFFSETFROM:-0700
TZOFFSETTO:-0800
TZNAME:PST
DTSTART:20241103T090000
END:STANDARD
BEGIN:DAYLIGHT
TZOFFSETFROM:-0800
TZOFFSETTO:-0700
TZNAME:PDT
DTSTART:20250309T100000
END:DAYLIGHT
BEGIN:STANDARD
TZOFFSETFROM:-0700
TZOFFSETTO:-0800
TZNAME:PST
DTSTART:20251102T090000
END:STANDARD
BEGIN:DAYLIGHT
TZOFFSETFROM:-0800
TZOFFSETTO:-0700
TZNAME:PDT
DTSTART:20260308T100000
END:DAYLIGHT
BEGIN:STANDARD
TZOFFSETFROM:-0700
TZOFFSETTO:-0800
TZNAME:PST
DTSTART:20261101T090000
END:STANDARD
END:VTIMEZONE
BEGIN:VEVENT
DTSTART;TZID=America/Los_Angeles:20250504T080000
DTEND;TZID=America/Los_Angeles:20250504T080000
DTSTAMP:20260424T072044
CREATED:20240507T212039Z
LAST-MODIFIED:20240507T213108Z
UID:10003007-1746345600-1746345600@events.kvia.com
SUMMARY:Low Sensory Sunday
DESCRIPTION:For a quieter\, calmer zoo experience\, we are open an hour early to allow guests enjoy the zoo before the crowds settle in. \nThe Zoo has designated quiet zones and identified headphone zones to provide a calm and quiet area for visitors with sensory needs. \nSensory sensitivities or challenges with sensory regulation are often experienced by individuals with autism\, dementia\, PTSD\, and other similar conditions.
URL:https://events.kvia.com/event/low-sensory-sunday/2025-05-04/
LOCATION:El Paso Zoo\, 4001 E Paisano Dr\, El Paso\, 79905
ATTACH;FMTTYPE=image/png:https://events.kvia.com/wp-content/uploads/2024/05/Low-Sensory-Sundays.png
END:VEVENT
BEGIN:VEVENT
DTSTART;TZID=America/Los_Angeles:20250504T100000
DTEND;TZID=America/Los_Angeles:20250504T180000
DTSTAMP:20260424T072044
CREATED:20250314T172148Z
LAST-MODIFIED:20250314T172148Z
UID:10003168-1746352800-1746381600@events.kvia.com
SUMMARY:May The 4th Be With You
DESCRIPTION:Make plans to come to the brewery on Sunday\, May 4th from 10am to 6pm for a full day of Star Wars fun for the entire family. We’ll be featuring a special appearance by actor C. Andrew Nelson (Darth Vader)\, a Star Wars themed beer release and food menu\, Star Wars trivia\, a costume contest\, Star Wars themed activities for kids\, Estar Guars Loteria\, photo opportunities\, Star Wars themed 3-D pen demo by Fab Lab El Paso\, vendors\, artists and much more! \nAdmission is free and open to all ages. \nFor more information visit our website and our social media.
URL:https://events.kvia.com/event/may-the-4th-be-with-you/
LOCATION:DeadBeach Brewery\, 3200 Durazno Ave.\, El Paso\, TX\, 79905\, United States
CATEGORIES:Fairs and Festivals
ATTACH;FMTTYPE=image/png:https://events.kvia.com/wp-content/uploads/2025/03/MAY-4TH-2025-DEADBEACH-BREWERY-C.-ANDREW-NELSON-APPEARANCE-STAR-WARS-TRIVIA-SPECIALTY-BEER-RELEASE-THEMED-MENU-COSTUME-CONTEST-FULL-DETAILS-AT-DEADBEACH.COM-1.png
END:VEVENT
BEGIN:VEVENT
DTSTART;TZID=America/Los_Angeles:20250504T120000
DTEND;TZID=America/Los_Angeles:20250524T170000
DTSTAMP:20260424T072044
CREATED:20250407T164449Z
LAST-MODIFIED:20250407T164449Z
UID:10003187-1746360000-1748106000@events.kvia.com
SUMMARY:Francella Baca: Conversations with the Universe
DESCRIPTION:A solo exhibition by visionary illustrative painter and tattoo artist\, Francella Baca. \nExperience a comprehensive collection and blend of visionary fine art and tattoo artist wit the works of native El Paso artist Francella Baca.From her tattoo creations to work in different mediums of art\, Francella’s work is born through her visions\, dreams\, love of nature and captures her intuitive connections to the Universe…. These are her Conversations with the Universe. \nConversations with the Universe will be on view from Sunday\, May 4- Saturday\, May 2024\, 2025. All are welcome to the opening reception on Sunday\, May 4 from 2 pm- 5 pm with a gallery talk by Francella at 3 pm. \nThe International Museum of Art is dedicated to making art accessible to all\, offering free admission\, exhibitions of local artists\, and a rich collection of regional and international artifacts. Thanks to the generous support of our members and donors\, we continue to foster cultural understanding and promoting the visual arts in El Paso.
URL:https://events.kvia.com/event/francella-baca-conversations-with-the-universe/
LOCATION:International Museum of Art\, 1211 Montana Avenue\, El Paso\, TX\, 79902\, United States
CATEGORIES:Art and Exhibits
ATTACH;FMTTYPE=image/jpeg:https://events.kvia.com/wp-content/uploads/2025/04/Francella-Baca-Conversations-with-the-Universe.jpg
ORGANIZER;CN="International Museum of Art":MAILTO:international.art.musuem@gmail.com
END:VEVENT
BEGIN:VEVENT
DTSTART;TZID=America/Los_Angeles:20250504T140000
DTEND;TZID=America/Los_Angeles:20250504T170000
DTSTAMP:20260424T072044
CREATED:20250409T215745Z
LAST-MODIFIED:20250409T215745Z
UID:10003191-1746367200-1746378000@events.kvia.com
SUMMARY:Opening Reception Francella Baca: Conversations with the Universe
DESCRIPTION:Please join the International Museum of Art in welcoming Francella Baca: Conversations with the Universe on Sunday\, May 4 from 2 pm- 5 pm. All are welcome to the grand opening of this solo exhibition by visionary illustrative painter and tattoo artist\, Francella Baca. Francella will be offering a free Artist Gallery Talk at 3 pm. \nExperience a comprehensive collection and blend of visionary fine art and tattoo artist wit the works of native El Paso artist Francella Baca.From her tattoo creations to work in different mediums of art\, Francella’s work is born through her visions\, dreams\, love of nature and captures her intuitive connections to the Universe…. These are her Conversations with the Universe. \nConversations with the Universe will be on view from Sunday\, May 4- Saturday\, May 2024\, 2025. \nThe International Museum of Art is dedicated to making art accessible to all\, offering free admission\, exhibitions of local artists\, and a rich collection of regional and international artifacts. Thanks to the generous support of our members and donors\, we continue to foster cultural understanding and promoting the visual arts in El Paso.
URL:https://events.kvia.com/event/opening-reception-francella-baca-conversations-with-the-universe/
LOCATION:International Museum of Art\, 1211 Montana Avenue\, El Paso\, TX\, 79902\, United States
CATEGORIES:Art and Exhibits
ATTACH;FMTTYPE=image/jpeg:https://events.kvia.com/wp-content/uploads/2025/04/Francella-Baca-Conversations-with-the-Universe-1.jpg
ORGANIZER;CN="International Museum of Art":MAILTO:international.art.musuem@gmail.com
END:VEVENT
END:VCALENDAR