BEGIN:VCALENDAR
VERSION:2.0
PRODID:-//KVIA Events - ECPv6.15.20//NONSGML v1.0//EN
CALSCALE:GREGORIAN
METHOD:PUBLISH
X-ORIGINAL-URL:https://events.kvia.com
X-WR-CALDESC:Events for KVIA Events
REFRESH-INTERVAL;VALUE=DURATION:PT1H
X-Robots-Tag:noindex
X-PUBLISHED-TTL:PT1H
BEGIN:VTIMEZONE
TZID:America/Los_Angeles
BEGIN:DAYLIGHT
TZOFFSETFROM:-0800
TZOFFSETTO:-0700
TZNAME:PDT
DTSTART:20220313T100000
END:DAYLIGHT
BEGIN:STANDARD
TZOFFSETFROM:-0700
TZOFFSETTO:-0800
TZNAME:PST
DTSTART:20221106T090000
END:STANDARD
BEGIN:DAYLIGHT
TZOFFSETFROM:-0800
TZOFFSETTO:-0700
TZNAME:PDT
DTSTART:20230312T100000
END:DAYLIGHT
BEGIN:STANDARD
TZOFFSETFROM:-0700
TZOFFSETTO:-0800
TZNAME:PST
DTSTART:20231105T090000
END:STANDARD
BEGIN:DAYLIGHT
TZOFFSETFROM:-0800
TZOFFSETTO:-0700
TZNAME:PDT
DTSTART:20240310T100000
END:DAYLIGHT
BEGIN:STANDARD
TZOFFSETFROM:-0700
TZOFFSETTO:-0800
TZNAME:PST
DTSTART:20241103T090000
END:STANDARD
BEGIN:DAYLIGHT
TZOFFSETFROM:-0800
TZOFFSETTO:-0700
TZNAME:PDT
DTSTART:20250309T100000
END:DAYLIGHT
BEGIN:STANDARD
TZOFFSETFROM:-0700
TZOFFSETTO:-0800
TZNAME:PST
DTSTART:20251102T090000
END:STANDARD
END:VTIMEZONE
BEGIN:VEVENT
DTSTART;TZID=America/Los_Angeles:20231202T080000
DTEND;TZID=America/Los_Angeles:20240131T170000
DTSTAMP:20260422T034522
CREATED:20231203T005358Z
LAST-MODIFIED:20231204T202301Z
UID:10001790-1701504000-1706720400@events.kvia.com
SUMMARY:Holidays at the Ice Rink
DESCRIPTION:Come skate on real ice with no long lines!  $20 for up to 4 hours\, skates included.  Military and group discounts available! Visit elpasohockey.org for dates and times. Located at the El Paso Rhinos Rink at 4100 E Paisano Ave 79905.
URL:https://events.kvia.com/event/holidays-at-the-ice-rink/
LOCATION:El Paso County Coliseum\, 4100 E Paisano Dr.\, El Paso\, 79905
ATTACH;FMTTYPE=image/jpeg:https://events.kvia.com/wp-content/uploads/2023/12/Public-Skating-896-x-640-px.jpg
END:VEVENT
BEGIN:VEVENT
DTSTART;VALUE=DATE:20231209
DTEND;VALUE=DATE:20231211
DTSTAMP:20260422T034522
CREATED:20231121T012545Z
LAST-MODIFIED:20231121T012618Z
UID:10001788-1702080000-1702252799@events.kvia.com
SUMMARY:Krampus Fest
DESCRIPTION:We have a big Krampus Fest update! We are beyond excited to announce that this years Krampus Fest will now be held at The El Paso County Coliseum!
URL:https://events.kvia.com/event/krampus-fest/
LOCATION:El Paso County Coliseum\, 4100 E Paisano Dr.\, El Paso\, 79905
CATEGORIES:Fairs and Festivals
ATTACH;FMTTYPE=image/png:https://events.kvia.com/wp-content/uploads/2023/11/El-Paso-County-Coliseum.png
END:VEVENT
BEGIN:VEVENT
DTSTART;VALUE=DATE:20231210
DTEND;VALUE=DATE:20231211
DTSTAMP:20260422T034522
CREATED:20231120T194726Z
LAST-MODIFIED:20231120T195211Z
UID:10002248-1702166400-1702252799@events.kvia.com
SUMMARY:WinterFest
DESCRIPTION:Admission: FREE*\n*Admission to Skating Rink and other attractions varies\, find more ticket information.
URL:https://events.kvia.com/event/winterfest/2023-12-10/
LOCATION:Downtown Arts District\, 114 W Mills Ave\, El Paso\, TX\, 79901\, United States
CATEGORIES:Fairs and Festivals
ATTACH;FMTTYPE=image/png:https://events.kvia.com/wp-content/uploads/2023/11/WinterFest-2.png
END:VEVENT
BEGIN:VEVENT
DTSTART;TZID=America/Los_Angeles:20231210T140000
DTEND;TZID=America/Los_Angeles:20231210T163000
DTSTAMP:20260422T034522
CREATED:20231204T203550Z
LAST-MODIFIED:20231204T203603Z
UID:10001792-1702216800-1702225800@events.kvia.com
SUMMARY:Chanukah Playland!
DESCRIPTION:The main Hannukah event at Chabad Lubavitch will happen on Sunday\, December 10\, 2:00-4:30pm. The “Chanukah Playland” has become an El Paso tradition\, going on to its 23rd year and counting. Children will be treated to inflatable rides\, bungee jumping\, a train ride and more. Chanukah treats\, crafts\, games and a delicious dinner will round off the festivities\, culminating in the grand outdoor Menorah lighting at 4:30pm. RSVP is required.
URL:https://events.kvia.com/event/chanukah-playland/
LOCATION:Chabad Lubavitch Center for Jewish Life\, 6516 Escondido Dr\, El Paso\, 79912
CATEGORIES:Fairs and Festivals
ATTACH;FMTTYPE=image/png:https://events.kvia.com/wp-content/uploads/2023/12/Chanukah-Playland.png
END:VEVENT
BEGIN:VEVENT
DTSTART;TZID=America/Los_Angeles:20231210T163000
DTEND;TZID=America/Los_Angeles:20231210T190000
DTSTAMP:20260422T034522
CREATED:20231013T185549Z
LAST-MODIFIED:20231013T190653Z
UID:10001758-1702225800-1702234800@events.kvia.com
SUMMARY:El Paso Rhinos vs. New Mexico Ice Wolves
DESCRIPTION:4:30pm
URL:https://events.kvia.com/event/el-paso-rhinos-vs-new-mexico-ice-wolves-6/
LOCATION:El Paso County Coliseum\, 4100 E Paisano Dr.\, El Paso\, 79905
ATTACH;FMTTYPE=image/jpeg:https://events.kvia.com/wp-content/uploads/2023/10/Rhinos_Head-Orange-Outline-01-9.jpg
END:VEVENT
BEGIN:VEVENT
DTSTART;TZID=America/Los_Angeles:20231210T193000
DTEND;TZID=America/Los_Angeles:20231210T193000
DTSTAMP:20260422T034522
CREATED:20231120T202256Z
LAST-MODIFIED:20231120T202256Z
UID:10002275-1702236600-1702236600@events.kvia.com
SUMMARY:Geeks Who Drink Trivia Night at Elton's Dueling Pianos
DESCRIPTION:As El Paso’s first and only Dueling Piano venue\, we bring live entertainment based on YOU! Our service and entertainment will be tailored to ensure that YOU call the shots and enjoy the Union Plaza once again. Come\, join us and have some refreshing fun!
URL:https://events.kvia.com/event/geeks-who-drink-trivia-night-at-eltons-dueling-pianos/2023-12-10/
LOCATION:Elton’s Dueling Pianos\, 115 Durango St Suite A\, El Paso\, 79901
ATTACH;FMTTYPE=image/png:https://events.kvia.com/wp-content/uploads/2023/11/Eltons-Dueling-Pianos.png
END:VEVENT
END:VCALENDAR