BEGIN:VCALENDAR
VERSION:2.0
PRODID:-//KVIA Events - ECPv6.15.20//NONSGML v1.0//EN
CALSCALE:GREGORIAN
METHOD:PUBLISH
X-ORIGINAL-URL:https://events.kvia.com
X-WR-CALDESC:Events for KVIA Events
REFRESH-INTERVAL;VALUE=DURATION:PT1H
X-Robots-Tag:noindex
X-PUBLISHED-TTL:PT1H
BEGIN:VTIMEZONE
TZID:America/Los_Angeles
BEGIN:DAYLIGHT
TZOFFSETFROM:-0800
TZOFFSETTO:-0700
TZNAME:PDT
DTSTART:20220313T100000
END:DAYLIGHT
BEGIN:STANDARD
TZOFFSETFROM:-0700
TZOFFSETTO:-0800
TZNAME:PST
DTSTART:20221106T090000
END:STANDARD
BEGIN:DAYLIGHT
TZOFFSETFROM:-0800
TZOFFSETTO:-0700
TZNAME:PDT
DTSTART:20230312T100000
END:DAYLIGHT
BEGIN:STANDARD
TZOFFSETFROM:-0700
TZOFFSETTO:-0800
TZNAME:PST
DTSTART:20231105T090000
END:STANDARD
BEGIN:DAYLIGHT
TZOFFSETFROM:-0800
TZOFFSETTO:-0700
TZNAME:PDT
DTSTART:20240310T100000
END:DAYLIGHT
BEGIN:STANDARD
TZOFFSETFROM:-0700
TZOFFSETTO:-0800
TZNAME:PST
DTSTART:20241103T090000
END:STANDARD
END:VTIMEZONE
BEGIN:VTIMEZONE
TZID:America/Denver
BEGIN:DAYLIGHT
TZOFFSETFROM:-0700
TZOFFSETTO:-0600
TZNAME:MDT
DTSTART:20220313T090000
END:DAYLIGHT
BEGIN:STANDARD
TZOFFSETFROM:-0600
TZOFFSETTO:-0700
TZNAME:MST
DTSTART:20221106T080000
END:STANDARD
BEGIN:DAYLIGHT
TZOFFSETFROM:-0700
TZOFFSETTO:-0600
TZNAME:MDT
DTSTART:20230312T090000
END:DAYLIGHT
BEGIN:STANDARD
TZOFFSETFROM:-0600
TZOFFSETTO:-0700
TZNAME:MST
DTSTART:20231105T080000
END:STANDARD
BEGIN:DAYLIGHT
TZOFFSETFROM:-0700
TZOFFSETTO:-0600
TZNAME:MDT
DTSTART:20240310T090000
END:DAYLIGHT
BEGIN:STANDARD
TZOFFSETFROM:-0600
TZOFFSETTO:-0700
TZNAME:MST
DTSTART:20241103T080000
END:STANDARD
END:VTIMEZONE
BEGIN:VEVENT
DTSTART;VALUE=DATE:20231130
DTEND;VALUE=DATE:20231201
DTSTAMP:20260420T122240
CREATED:20231120T194726Z
LAST-MODIFIED:20231120T195211Z
UID:10002238-1701302400-1701388799@events.kvia.com
SUMMARY:WinterFest
DESCRIPTION:Admission: FREE*\n*Admission to Skating Rink and other attractions varies\, find more ticket information.
URL:https://events.kvia.com/event/winterfest/2023-11-30/
LOCATION:Downtown Arts District\, 114 W Mills Ave\, El Paso\, TX\, 79901\, United States
CATEGORIES:Fairs and Festivals
ATTACH;FMTTYPE=image/png:https://events.kvia.com/wp-content/uploads/2023/11/WinterFest-2.png
END:VEVENT
BEGIN:VEVENT
DTSTART;TZID=America/Los_Angeles:20231130T170000
DTEND;TZID=America/Los_Angeles:20231130T210000
DTSTAMP:20260420T122240
CREATED:20231114T001456Z
LAST-MODIFIED:20231114T001456Z
UID:10002196-1701363600-1701378000@events.kvia.com
SUMMARY:Oh Come\, Let Us Adore Him
DESCRIPTION:Free Community Nativity Event! \nWe welcome all to come\, and adore Christ. \nWalk thought hundreds of unique nativity scenes from around the world! \nWith: \n\nMusical performances\nA live Nativity play\nChildren’s activities
URL:https://events.kvia.com/event/oh-come-let-us-adore-him/2023-11-30/
LOCATION:The Church of Jesus Christ of Latter-day Saints\, 1212 Sumac Drive\, El Paso\, 79925
CATEGORIES:Community,Music
ATTACH;FMTTYPE=image/png:https://events.kvia.com/wp-content/uploads/2023/11/Oh-Come-Let-Us-Adore-Him-.png
ORGANIZER;CN="The Church of Jesus Christ of Latter-Day Saints":MAILTO:epstakesocialmedia@gmail.com
END:VEVENT
BEGIN:VEVENT
DTSTART;TZID=America/Denver:20231130T183000
DTEND;TZID=America/Denver:20231130T203000
DTSTAMP:20260420T122240
CREATED:20231110T085725Z
LAST-MODIFIED:20231124T091135Z
UID:10002193-1701369000-1701376200@events.kvia.com
SUMMARY:Copy of Speed Dating El Paso 50 - 65
DESCRIPTION:Ready to find date in El Paso? Join our in-person Speed Dating event for singles aged 50-65\, and meet potential matches in a fun and excitin\n\n\nSpeed Dating El Paso 50-65 \nLooking for a fun and exciting way to meet new people? Look no further! Join us at the Aloft El Paso Downtown for an incredible evening of speed dating. Whether you’re single and ready to mingle or just curious to see what’s out there\, this event is perfect for you. Don’t miss this opportunity to connect with other singles in your age range (50-65) in a relaxed and friendly atmosphere. Who knows\, you might just meet your perfect match! So mark your calendars and get ready for a night of laughter\, conversation\, and maybe even a little romance. See you there! \nRegistration Time: 630pm \nEvent Time: 7pm – 8:30 \nComplimentary champagne per attending guest! \nHappy hour starts at 5pm
URL:https://events.kvia.com/event/copy-of-speed-dating-el-paso-50-65/
LOCATION:Aloft El Paso Downtown\, 303 Texas Avenue\, El Paso\, TX\, 79901\, United States
ATTACH;FMTTYPE=image/jpeg:https://events.kvia.com/wp-content/uploads/2023/11/22b1bc8155f0eeea4589ad75c62c503e-NnfWQZ.tmp_.jpg
END:VEVENT
END:VCALENDAR