BEGIN:VCALENDAR
VERSION:2.0
PRODID:-//KVIA Events - ECPv6.15.20//NONSGML v1.0//EN
CALSCALE:GREGORIAN
METHOD:PUBLISH
X-WR-CALNAME:KVIA Events
X-ORIGINAL-URL:https://events.kvia.com
X-WR-CALDESC:Events for KVIA Events
REFRESH-INTERVAL;VALUE=DURATION:PT1H
X-Robots-Tag:noindex
X-PUBLISHED-TTL:PT1H
BEGIN:VTIMEZONE
TZID:America/Los_Angeles
BEGIN:DAYLIGHT
TZOFFSETFROM:-0800
TZOFFSETTO:-0700
TZNAME:PDT
DTSTART:20220313T100000
END:DAYLIGHT
BEGIN:STANDARD
TZOFFSETFROM:-0700
TZOFFSETTO:-0800
TZNAME:PST
DTSTART:20221106T090000
END:STANDARD
BEGIN:DAYLIGHT
TZOFFSETFROM:-0800
TZOFFSETTO:-0700
TZNAME:PDT
DTSTART:20230312T100000
END:DAYLIGHT
BEGIN:STANDARD
TZOFFSETFROM:-0700
TZOFFSETTO:-0800
TZNAME:PST
DTSTART:20231105T090000
END:STANDARD
BEGIN:DAYLIGHT
TZOFFSETFROM:-0800
TZOFFSETTO:-0700
TZNAME:PDT
DTSTART:20240310T100000
END:DAYLIGHT
BEGIN:STANDARD
TZOFFSETFROM:-0700
TZOFFSETTO:-0800
TZNAME:PST
DTSTART:20241103T090000
END:STANDARD
END:VTIMEZONE
BEGIN:VEVENT
DTSTART;VALUE=DATE:20231127
DTEND;VALUE=DATE:20231128
DTSTAMP:20260419T132423
CREATED:20231120T194726Z
LAST-MODIFIED:20231120T195211Z
UID:10002235-1701043200-1701129599@events.kvia.com
SUMMARY:WinterFest
DESCRIPTION:Admission: FREE*\n*Admission to Skating Rink and other attractions varies\, find more ticket information.
URL:https://events.kvia.com/event/winterfest/2023-11-27/
LOCATION:Downtown Arts District\, 114 W Mills Ave\, El Paso\, TX\, 79901\, United States
CATEGORIES:Fairs and Festivals
ATTACH;FMTTYPE=image/png:https://events.kvia.com/wp-content/uploads/2023/11/WinterFest-2.png
END:VEVENT
BEGIN:VEVENT
DTSTART;TZID=America/Los_Angeles:20231127T200000
DTEND;TZID=America/Los_Angeles:20231127T200000
DTSTAMP:20260419T132423
CREATED:20231116T175833Z
LAST-MODIFIED:20231116T180045Z
UID:10002199-1701115200-1701115200@events.kvia.com
SUMMARY:LINDSEY STIRLING: SNOW WALTZ TOUR
DESCRIPTION:Stirling’s unique interpretation of beautifully nostalgic holiday music will be more dynamic than ever. Consequence says “the violinist has become a fixture of Christmastime concerts with her combination of cutting-edge performances that include dance\, trapeze\, lyra\, and aerial work along with her signature genre-bending\, amped-up orchestrations.”
URL:https://events.kvia.com/event/lindsey-stirling-snow-waltz-tour/
LOCATION:Abraham Chavez Theatre\, 1 Civic Center Plaza\, El Paso\, 79901
CATEGORIES:Music
ATTACH;FMTTYPE=image/png:https://events.kvia.com/wp-content/uploads/2023/11/LS.png
END:VEVENT
END:VCALENDAR