BEGIN:VCALENDAR
VERSION:2.0
PRODID:-//KVIA Events - ECPv6.15.20//NONSGML v1.0//EN
CALSCALE:GREGORIAN
METHOD:PUBLISH
X-ORIGINAL-URL:https://events.kvia.com
X-WR-CALDESC:Events for KVIA Events
REFRESH-INTERVAL;VALUE=DURATION:PT1H
X-Robots-Tag:noindex
X-PUBLISHED-TTL:PT1H
BEGIN:VTIMEZONE
TZID:America/Los_Angeles
BEGIN:DAYLIGHT
TZOFFSETFROM:-0800
TZOFFSETTO:-0700
TZNAME:PDT
DTSTART:20220313T100000
END:DAYLIGHT
BEGIN:STANDARD
TZOFFSETFROM:-0700
TZOFFSETTO:-0800
TZNAME:PST
DTSTART:20221106T090000
END:STANDARD
BEGIN:DAYLIGHT
TZOFFSETFROM:-0800
TZOFFSETTO:-0700
TZNAME:PDT
DTSTART:20230312T100000
END:DAYLIGHT
BEGIN:STANDARD
TZOFFSETFROM:-0700
TZOFFSETTO:-0800
TZNAME:PST
DTSTART:20231105T090000
END:STANDARD
BEGIN:DAYLIGHT
TZOFFSETFROM:-0800
TZOFFSETTO:-0700
TZNAME:PDT
DTSTART:20240310T100000
END:DAYLIGHT
BEGIN:STANDARD
TZOFFSETFROM:-0700
TZOFFSETTO:-0800
TZNAME:PST
DTSTART:20241103T090000
END:STANDARD
END:VTIMEZONE
BEGIN:VEVENT
DTSTART;TZID=America/Los_Angeles:20231118T090000
DTEND;TZID=America/Los_Angeles:20231118T130000
DTSTAMP:20260423T182803
CREATED:20231013T175458Z
LAST-MODIFIED:20231013T175458Z
UID:10001743-1700298000-1700312400@events.kvia.com
SUMMARY:Farmers' Market @ Ardovino's Desert Crossing
DESCRIPTION:For 23 years\, shoppers in the El Paso area have been able to find an ever-increasing selection of organic and pesticide-free produce\, pork\, fresh-baked breads\, vegan cheeses\, homemade jams\, locally roasted coffee beans\, salsas\, and more from our Farmers’ Market. Enjoy a fair trade cup of coffee\, and fresh-squeezed juices\, along with something delicious food served from our CoffeeStream.\nEvery week at the Market we offer Yoga At the Market\, with a rotating schedule of guest yoga instructors. Once a month we offer a Sip and Paint Party hosted by La Buena Paint Parties. And periodically throughout the season we offer food literacy classes\, cooking demos\, kid’s activities\, gardening tips\, and vendor workshops. To see the planned activities for a particular market check the market date in the Upcoming Market Events section on this page. You can learn more about our Yoga classes\, guest yoga instructors\, and Sip and Paint Parties by visiting www.ardovinos.com/farmers-market.\nReceive weekly text reminders from us about upcoming market dates\, healthy eating tips\, and more by texting PEACH to 21333 and when prompted for preferred farmers market enter FMADC. You will receive at least 2 texts a week and can opt-out at any time. This text messaging program is brought to you by GoodFoodNM\, New Mexico Farmers Marketing Association\, and us at Farmers’ Market At Ardovino’s Desert Crossing.\nWe welcome well behaved leashed pets.
URL:https://events.kvia.com/event/farmers-market-ardovinos-desert-crossing/2023-11-18/
LOCATION:Ardovino’s Desert Crossing\, 1 Ardovinos Dr\, Sunland Park\, 88063
CATEGORIES:Other
ATTACH;FMTTYPE=image/png:https://events.kvia.com/wp-content/uploads/2023/10/FARMERS-MARKET-Generic-250x250-970-x-560-px.png
ORGANIZER;CN="The Markets at ADC":MAILTO:david@ardovinos.com
END:VEVENT
BEGIN:VEVENT
DTSTART;TZID=America/Los_Angeles:20231118T130000
DTEND;TZID=America/Los_Angeles:20231118T200000
DTSTAMP:20260423T182803
CREATED:20231116T164410Z
LAST-MODIFIED:20231116T164520Z
UID:10001764-1700312400-1700337600@events.kvia.com
SUMMARY:West Texas Beer Fest 2023
DESCRIPTION:Lowbrow Palace is thrilled to announce the much-anticipated return of West Texas Beer Fest 2023\, our annual celebration of craft beer\, eats and live music!\nThe festival will bring together beer enthusiasts with unparalleled fun and flavor on Saturday\, November 18th at Lowbrow Palace\, near downtown El Paso.\nAttendees will be immersed with an extensive selection of brews from renowned local and national breweries. Master brewer at Ex Novo Brewery\, Mikey Mayorga from Corrales\, NM is hosting an educational session about different beer styles and upcoming new releases at Ex Novo Brewery. Shop from local vendors\, and indulge in delicious eats from Juarez Dogs\, Zombies Tacos\, and Gordiis Barbecue. Welcome to all ages.\nThis festival is a family-friendly event. We encourage everyone to drink responsibly\, alcoholic beverages will be served to 21+ with a valid ID.
URL:https://events.kvia.com/event/west-texas-beer-fest-2023/
LOCATION:Lowbrow Palace\, 1006 Texas Ave.\, El Paso\, 79901
CATEGORIES:Fairs and Festivals
ATTACH;FMTTYPE=image/png:https://events.kvia.com/wp-content/uploads/2023/11/WTBF.png
END:VEVENT
BEGIN:VEVENT
DTSTART;TZID=America/Los_Angeles:20231118T190000
DTEND;TZID=America/Los_Angeles:20231118T220000
DTSTAMP:20260423T182803
CREATED:20231013T184453Z
LAST-MODIFIED:20231013T190535Z
UID:10002184-1700334000-1700344800@events.kvia.com
SUMMARY:El Paso Rhinos vs. Austin Ice Bats
DESCRIPTION:7:00pm
URL:https://events.kvia.com/event/el-paso-rhinos-vs-austin-ice-bats-2/
LOCATION:El Paso County Coliseum\, 4100 E Paisano Dr.\, El Paso\, 79905
ATTACH;FMTTYPE=image/png:https://events.kvia.com/wp-content/uploads/2023/10/EP-Logo-3.png
END:VEVENT
END:VCALENDAR