BEGIN:VCALENDAR
VERSION:2.0
PRODID:-//KVIA Events - ECPv6.15.20//NONSGML v1.0//EN
CALSCALE:GREGORIAN
METHOD:PUBLISH
X-WR-CALNAME:KVIA Events
X-ORIGINAL-URL:https://events.kvia.com
X-WR-CALDESC:Events for KVIA Events
REFRESH-INTERVAL;VALUE=DURATION:PT1H
X-Robots-Tag:noindex
X-PUBLISHED-TTL:PT1H
BEGIN:VTIMEZONE
TZID:America/Los_Angeles
BEGIN:DAYLIGHT
TZOFFSETFROM:-0800
TZOFFSETTO:-0700
TZNAME:PDT
DTSTART:20220313T100000
END:DAYLIGHT
BEGIN:STANDARD
TZOFFSETFROM:-0700
TZOFFSETTO:-0800
TZNAME:PST
DTSTART:20221106T090000
END:STANDARD
BEGIN:DAYLIGHT
TZOFFSETFROM:-0800
TZOFFSETTO:-0700
TZNAME:PDT
DTSTART:20230312T100000
END:DAYLIGHT
BEGIN:STANDARD
TZOFFSETFROM:-0700
TZOFFSETTO:-0800
TZNAME:PST
DTSTART:20231105T090000
END:STANDARD
BEGIN:DAYLIGHT
TZOFFSETFROM:-0800
TZOFFSETTO:-0700
TZNAME:PDT
DTSTART:20240310T100000
END:DAYLIGHT
BEGIN:STANDARD
TZOFFSETFROM:-0700
TZOFFSETTO:-0800
TZNAME:PST
DTSTART:20241103T090000
END:STANDARD
END:VTIMEZONE
BEGIN:VEVENT
DTSTART;TZID=America/Los_Angeles:20231016T160000
DTEND;TZID=America/Los_Angeles:20231016T200000
DTSTAMP:20260419T071340
CREATED:20231011T140727Z
LAST-MODIFIED:20231011T221758Z
UID:10002172-1697472000-1697486400@events.kvia.com
SUMMARY:Hooters El Paso East Grand Opening and Calendar Signing Oct. 16
DESCRIPTION:To commemorate the opening of Hooters El Paso East\, located at 1799 Joe Battle Boulevard\, Hooters is inviting fans to join the grand opening celebration on Monday\, Oct. 16. This free event kicks off with a ribbon cutting ceremony at 4 p.m.\, followed by a 2024 Hooters Calendar signing from 5-8 p.m.\, when fans can meet and have their calendars signed by Hooters Girls gracing the pages of the newly published edition. \nMiss Hooters International and 2024 Hooters Calendar Cover Girl Emily Johnson; Miss Hooters International First Runner-Up and 2024 Hooters Calendar Miss July Cassidy Marginean; and 2024 Hooters Calendar Girls Scarlett Knight\, Blakelyn Brown and Priscilla Villegas are all scheduled to attend the ribbon cutting and calendar signing. \nHooters fans unable to join Monday’s festivities will have a second chance to have their calendar signed by this group of Hooters Girls at the original Hooters El Paso (1170 Sunmount Dr.) on Tuesday\, Oct. 17\, from 11 a.m. to 12:30 p.m. \nAlong with a menu featuring an unmatched line-up of wing styles and a variety of other craveable menu options\, Hooters also provides guests with the experience of giving back to an important cause – breast cancer research. For each calendar sold at the grand opening and during the entire month of October\, Hooters will donate $1 towards its Give A Hoot fundraising efforts benefitting the V Foundation for Cancer Research and other local beneficiaries through the Kelly Jo Dowd Breast Cancer Research Fund.
URL:https://events.kvia.com/event/hooters-el-paso-east-grand-opening-and-calendar-signing-oct-16/
LOCATION:Hooters El Paso East\, 1799 Joe Battle Boulevard\, El Paso\, TX\, 79936\, United States
CATEGORIES:Community,Food and Drink
ATTACH;FMTTYPE=image/png:https://events.kvia.com/wp-content/uploads/2023/10/A163-El-Paso-Grand-Opening-POST.png
ORGANIZER;CN="Hooters":MAILTO:hannah@cookerly.com
END:VEVENT
END:VCALENDAR